Workbook

Sheet 110 кВ
A1: Месяц | B1: 1 | C1: 2 | D1: 3 | E1: 4 | F1: 5 | G1: 6 | H1: 7 | I1: 8 | J1: 9 | K1: 10 | L1: 11 | M1: 12 | N1: 13 | O1: 14 | P1: 15 | Q1: 16 | R1: 17 | S1: 18 | T1: 19 | U1: 20 | V1: 21 | W1: 22 | X1: 23 | Y1: 24 | Z1: 25
A2: 1 | B2: 71.502816 | C2: 72.393599 | D2: 78.183511 | E2: 75.157622 | F2: 76.955014 | G2: 69.944057 | H2: 76.301675 | I2: 72.645495 | J2: 75.457488 | K2: 77.79427 | L2: 79.718837 | M2: 73.517864 | N2: 73.598997 | O2: 74.846093 | P2: 82.951968 | Q2: 78.715724 | R2: 81.232073 | S2: 71.416733 | T2: 80.317399 | U2: 75.198747 | V2: 79.135537 | W2: 82.407032 | X2: 64.795636 | Y2: 56.114274 | Z2: 80.5458
A3: 2 | B3: 73.48107 | C3: 73.936874 | D3: 71.535972 | E3: 74.676659 | F3: 70.245622 | G3: 72.478587 | H3: 71.384168 | I3: 79.370997 | J3: 80.240073 | K3: 70.667656 | L3: 74.088533 | M3: 76.072174 | N3: 76.297399 | O3: 76.935524 | P3: 73.574262 | Q3: 77.971223 | R3: 71.767771 | S3: 74.893923 | T3: 73.361736 | U3: 84.543296 | V3: 85.760002 | W3: 72.358619 | X3: 77.218999 | Y3: 79.996097 | Z3: 69.33624
A4: 3 | B4: 63.815606 | C4: 68.757249 | D4: 62.887269 | E4: 60.730477 | F4: 70.238014 | G4: 70.811034 | H4: 64.518765 | I4: 69.002585 | J4: 66.699114 | K4: 63.584912 | L4: 78.771416 | M4: 73.043376 | N4: 64.480541 | O4: 71.398841 | P4: 63.180869 | Q4: 60.16136 | R4: 73.471913 | S4: 74.27414 | T4: 65.464964 | U4: 71.742311 | V4: 68.517452 | W4: 64.15757 | X4: 83.703883 | Y4: 75.684626 | Z4: 67.72801
A5: 4 | B5: 58.74571 | C5: 55.639039 | D5: 52.393501 | E5: 59.127533 | F5: 56.699468 | G5: 57.272123 | H5: 60.737871 | I5: 55.93894 | J5: 52.963737 | K5: 57.777391 | L5: 72.513002 | M5: 57.007309 | N5: 60.499936 | O5: 56.150597 | P5: 51.606843 | Q5: 61.034489 | R5: 57.635198 | S5: 58.436914 | T5: 63.288961 | U5: 56.570458 | V5: 52.405174 | W5: 59.144289 | X5: 76.656896 | Y5: 54.948925 | Z5: 51.70399
A6: 5 | B6: 48.633292 | C6: 37.912753 | D6: 33.974459 | E6: 39.551849 | F6: 39.112949 | G6: 40.865264 | H6: 40.836684 | I6: 38.776661 | J6: 42.650878 | K6: 46.737116 | L6: 52.922907 | M6: 56.755161 | N6: 50.173667 | O6: 35.164913 | P6: 29.651301 | Q6: 37.459647 | R6: 36.845187 | S6: 39.298428 | T6: 39.258416 | U6: 36.374384 | V6: 41.798288 | W6: 47.51902 | X6: 52.348012 | Y6: 57.713168 | Z6: 38.53318
A7: 6 | B7: 33.514983 | C7: 36.293962 | D7: 34.889047 | E7: 33.510995 | F7: 33.501469 | G7: 33.539821 | H7: 34.097473 | I7: 29.279283 | J7: 34.141337 | K7: 33.396371 | L7: 37.326411 | M7: 48.702079 | N7: 32.654557 | O7: 36.545127 | P7: 34.578246 | Q7: 32.648973 | R7: 32.635637 | S7: 32.68933 | T7: 33.470042 | U7: 26.724577 | V7: 33.531452 | W7: 32.4885 | X7: 34.344033 | Y7: 50.269969 | Z7: 25.33397
A8: 7 | B8: 36.38367 | C8: 32.097292 | D8: 39.11817 | E8: 36.553762 | F8: 35.965162 | G8: 41.91 | H8: 28.806762 | I8: 35.113007 | J8: 25.709685 | K8: 25.983304 | L8: 37.738769 | M8: 34.627745 | N8: 39.181335 | O8: 33.180407 | P8: 43.009635 | Q8: 39.419463 | R8: 38.595424 | S8: 46.918198 | T8: 28.573664 | U8: 37.402407 | V8: 24.237756 | W8: 24.620823 | X8: 38.567856 | Y8: 34.212423 | Z8: 28.35634
A9: 8 | B9: 32.256685 | C9: 36.266685 | D9: 35.045639 | E9: 36.44337 | F9: 37.400657 | G9: 37.835233 | H9: 35.175261 | I9: 35.0305 | J9: 38.994235 | K9: 35.384176 | L9: 32.692901 | M9: 30.662974 | N9: 33.976758 | O9: 39.590758 | P9: 37.881294 | Q9: 39.838117 | R9: 41.178319 | S9: 41.786726 | T9: 38.062765 | U9: 37.860099 | V9: 43.409328 | W9: 38.355245 | X9: 34.014259 | Y9: 31.172361 | Z9: 38.76605
A10: 9 | B10: 38.024618 | C10: 44.750598 | D10: 41.276275 | E10: 38.455618 | F10: 40.132349 | G10: 49.57642 | H10: 42.294622 | I10: 44.592755 | J10: 40.20963 | K10: 49.129145 | L10: 29.910178 | M10: 37.353374 | N10: 40.246169 | O10: 49.66254 | P10: 44.798488 | Q10: 40.849568 | R10: 43.196992 | S10: 56.418692 | T10: 46.224175 | U10: 49.441561 | V10: 43.305185 | W10: 55.792506 | X10: 30.691648 | Y10: 41.112122 | Z10: 47.52337
A11: 10 | B11: 54.076175 | C11: 55.466337 | D11: 57.523033 | E11: 57.536245 | F11: 53.183364 | G11: 56.408701 | H11: 54.473447 | I11: 54.427627 | J11: 59.113513 | K11: 56.583133 | L11: 40.635826 | M11: 43.208865 | N11: 58.615335 | O11: 60.561562 | P11: 63.440937 | Q11: 63.459434 | R11: 57.3654 | S11: 61.880872 | T11: 59.171516 | U11: 59.107369 | V11: 65.667609 | W11: 62.125077 | X11: 43.90186 | Y11: 47.504114 | Z11: 58.09405
A12: 11 | B12: 65.859797 | C12: 62.508363 | D12: 66.059678 | E12: 67.571345 | F12: 66.125978 | G12: 71.151305 | H12: 62.661134 | I12: 61.606412 | J12: 63.190341 | K12: 66.63714 | L12: 50.400197 | M12: 52.432458 | N12: 69.375231 | O12: 64.683224 | P12: 69.655065 | Q12: 71.771399 | R12: 69.747886 | S12: 76.783343 | T12: 64.897104 | U12: 63.420493 | V12: 65.637994 | W12: 70.463512 | X12: 53.468967 | Y12: 56.314132 | Z12: 68.35616
A13: 12 | B13: 77.218009 | C13: 73.290671 | D13: 76.745013 | E13: 73.597984 | F13: 79.563863 | G13: 76.293015 | H13: 69.980351 | I13: 72.53024 | J13: 76.814598 | K13: 76.471402 | L13: 71.155098 | M13: 66.031971 | N13: 79.063726 | O13: 73.565452 | P13: 78.401532 | Q13: 73.99569 | R13: 82.347921 | S13: 77.768735 | T13: 68.931005 | U13: 72.500849 | V13: 78.49895 | W13: 78.018476 | X13: 76.788653 | Y13: 69.616276 | Z13: 81.40193
... A37: 36 | B37: 89.54001 | C37: 83.277188 | D37: 83.441661 | E37: 77.704533 | F37: 77.753509 | G37: 77.09818 | H37: 77.463669 | I37: 74.787017 | J37: 78.460135 | K37: 79.718837 | L37: 71.455607 | M37: 78.736913 | N37: 78.545278 | O37: 69.777326 | P37: 70.00759 | Q37: 61.975609 | R37: 62.044176 | S37: 61.126716 | T37: 61.638399 | U37: 57.891088 | V37: 63.033453 | W37: 64.795636 | X37: 66.50009 | Y37: 76.693918 | Z37: 44.32849
B39: 26 | C39: 27 | D39: 28 | E39: 29 | F39: 30 | G39: 31 | H39: 32 | I39: 33 | J39: 34 | K39: 35 | L39: 36 | M39: 37 | N39: 38 | O39: 39 | P39: 40 | Q39: 41 | R39: 42 | S39: 43 | T39: 44 | U39: 45 | V39: 46 | W39: 47 | X39: 48 | Y39: 49 | Z39: 50
A40: Месяц
A41: 1 | B41: 70.28104 | C41: 71.112437 | D41: 76.516354 | E41: 73.692191 | F41: 75.369757 | G41: 68.826197 | H41: 74.759975 | I41: 71.34754 | J41: 73.972067 | K41: 76.153064 | L41: 50.576119 | M41: 44.788545 | N41: 75.001114 | O41: 75.891897 | P41: 81.681808 | Q41: 78.655919 | R41: 80.453311 | S41: 73.442354 | T41: 79.799973 | U41: 76.143793 | V41: 78.955786 | W41: 81.292568 | X41: 53.154661 | Y41: 46.953688 | Z41: 44.32849
A42: 2 | B42: 70.578011 | C42: 71.003428 | D42: 68.762586 | E42: 71.693893 | F42: 67.558259 | G42: 69.64236 | H42: 68.620902 | I42: 76.075275 | J42: 76.886413 | K42: 67.952157 | L42: 72.694375 | M42: 74.545773 | N42: 75.237439 | O42: 75.693243 | P42: 73.292341 | Q42: 76.433027 | R42: 72.001991 | S42: 74.234956 | T42: 73.140537 | U42: 81.127365 | V42: 81.996441 | W42: 72.424025 | X42: 77.58683 | Y42: 79.570471 | Z42: 76.23339
A43: 3 | B43: 59.121183 | C43: 63.733383 | D43: 58.254735 | E43: 56.241729 | F43: 65.115431 | G43: 65.650249 | H43: 59.777465 | I43: 63.962363 | J43: 61.812457 | K43: 58.905869 | L43: 75.515667 | M43: 70.169496 | N43: 62.766261 | O43: 67.707904 | P43: 61.837924 | Q43: 59.681132 | R43: 69.188669 | S43: 69.761689 | T43: 63.46942 | U43: 67.95324 | V43: 65.649769 | W43: 62.535567 | X43: 80.527785 | Y43: 74.799744 | Z43: 78.18479
A44: 4 | B44: 51.996079 | C44: 49.09652 | D44: 46.067351 | E44: 52.352447 | F44: 50.086253 | G44: 50.620731 | H44: 53.855429 | I44: 49.376427 | J44: 46.599571 | K44: 51.092315 | L44: 67.238753 | M44: 52.766773 | N44: 54.879528 | O44: 51.772857 | P44: 48.527319 | Q44: 55.261351 | R44: 52.833286 | S44: 53.405941 | T44: 56.871688 | U44: 52.072758 | V44: 49.097555 | W44: 53.911209 | X44: 71.463657 | Y44: 55.957964 | Z44: 63.44257
A45: 5 | B45: 41.246006 | C45: 31.240169 | D45: 27.564428 | E45: 32.769992 | F45: 32.360352 | G45: 33.995846 | H45: 33.969171 | I45: 32.046483 | J45: 35.662419 | K45: 39.476241 | L45: 46.561463 | M45: 50.138234 | N45: 43.127595 | O45: 32.407056 | P45: 28.468762 | Q45: 34.046152 | R45: 33.607252 | S45: 35.359567 | T45: 35.330987 | U45: 33.270964 | V45: 37.145181 | W45: 41.231418 | X45: 49.056725 | Y45: 52.888979 | Z45: 51.86225
A46: 6 | B46: 27.607164 | C46: 30.200878 | D46: 28.889624 | E46: 27.603442 | F46: 27.594552 | G46: 27.630347 | H46: 28.150822 | I46: 23.653845 | J46: 28.191761 | K46: 27.49646 | L46: 30.692916 | M46: 41.310207 | N46: 28.368723 | O46: 31.147701 | P46: 29.742787 | Q46: 28.364734 | R46: 28.355209 | S46: 28.393561 | T46: 28.951213 | U46: 24.133023 | V46: 28.995076 | W46: 28.250111 | X46: 31.820714 | Y46: 43.196382 | Z46: 44.24611
A47: 7 | B47: 32.563016 | C47: 28.562397 | D47: 35.115216 | E47: 32.721768 | F47: 32.172409 | G47: 37.720925 | H47: 25.491235 | I47: 31.377064 | J47: 22.60063 | K47: 22.856008 | L47: 31.549364 | M47: 28.645742 | N47: 33.662498 | O47: 29.37612 | P47: 36.396997 | Q47: 33.832589 | R47: 33.243989 | S47: 39.188828 | T47: 26.085589 | U47: 32.391834 | V47: 22.988512 | W47: 23.262132 | X47: 32.592508 | Y47: 29.481484 | Z47: 27.58911
A48: 8 | B48: 32.045552 | C48: 35.788219 | D48: 34.648576 | E48: 35.953125 | F48: 36.846593 | G48: 37.252197 | H48: 34.769557 | I48: 34.634446 | J48: 38.333932 | K48: 34.964544 | L48: 29.118299 | M48: 27.2237 | N48: 33.222331 | O48: 37.232331 | P48: 36.011284 | Q48: 37.409016 | R48: 38.366303 | S48: 38.800879 | T48: 36.140907 | U48: 35.996146 | V48: 39.95988 | W48: 36.349821 | X48: 29.971729 | Y48: 27.941802 | Z48: 32.45478
A49: 9 | B49: 40.499002 | C49: 46.776583 | D49: 43.533882 | E49: 40.901268 | F49: 42.466217 | G49: 51.280684 | H49: 44.484339 | I49: 46.629263 | J49: 42.538346 | K49: 50.863227 | L49: 29.855479 | M49: 36.802462 | N49: 42.483537 | O49: 49.209516 | P49: 45.735193 | Q49: 42.914536 | R49: 44.591267 | S49: 54.035338 | T49: 46.753541 | U49: 49.051674 | V49: 44.668548 | W49: 53.588063 | X49: 30.875824 | Y49: 38.319019 | Z49: 30.66464
A50: 10 | B50: 56.845883 | C50: 58.143367 | D50: 60.06295 | E50: 60.075282 | F50: 56.012592 | G50: 59.022907 | H50: 57.21667 | I50: 57.173905 | J50: 61.547398 | K50: 59.185711 | L50: 42.93613 | M50: 45.337632 | N50: 60.222667 | O50: 61.612829 | P50: 63.669525 | Q50: 63.682738 | R50: 59.329856 | S50: 62.555194 | T50: 60.619939 | U50: 60.57412 | V50: 65.260005 | W50: 62.729626 | X50: 45.094744 | Y50: 47.667783 | Z50: 47.88836
A51: 11 | B51: 66.487807 | C51: 63.359802 | D51: 66.674363 | E51: 68.085253 | F51: 66.736244 | G51: 71.426548 | H51: 63.502389 | I51: 62.517982 | J51: 63.996316 | K51: 67.213328 | L51: 53.41497 | M51: 55.311747 | N51: 70.723054 | O51: 67.37162 | P51: 70.922935 | Q51: 72.434602 | R51: 70.989236 | S51: 76.014562 | T51: 67.524392 | U51: 66.469669 | V51: 68.053598 | W51: 71.500397 | X51: 56.546689 | Y51: 58.57895 | Z51: 62.84991
A52: 12 | B52: 72.85871 | C52: 69.193194 | D52: 72.417247 | E52: 69.48002 | F52: 75.048174 | G52: 71.995383 | H52: 66.103563 | I52: 68.483459 | J52: 72.482193 | K52: 72.161877 | L52: 71.430089 | M52: 66.648504 | N52: 77.605719 | O52: 73.678381 | P52: 77.132723 | Q52: 73.985694 | R52: 79.951573 | S52: 76.680725 | T52: 70.368061 | U52: 72.91795 | V52: 77.202308 | W52: 76.859112 | X52: 76.018355 | Y52: 70.895229 | Z52: 71.58225
... A76: 36 | B76: 59.742547 | C76: 53.897246 | D76: 54.050755 | E76: 48.696102 | F76: 48.741813 | G76: 48.130173 | H76: 48.471295 | I76: 45.973087 | J76: 49.401331 | K76: 50.576119 | L76: 58.455996 | M76: 65.251881 | N76: 62.975834 | O76: 56.713011 | P76: 56.877485 | Q76: 51.140356 | R76: 51.189333 | S76: 50.534004 | T76: 50.899492 | U76: 48.222841 | V76: 51.895959 | W76: 53.154661 | X76: 61.786989 | Y76: 69.068295 | Z76: 55.58839

Sheet 220кВ
A1: Месяц | B1: 1 | C1: 2 | D1: 3 | E1: 4 | F1: 5 | G1: 6 | H1: 7 | I1: 8 | J1: 9 | K1: 10 | L1: 11 | M1: 12 | N1: 13 | O1: 14 | P1: 15 | Q1: 16 | R1: 17 | S1: 18 | T1: 19 | U1: 20 | V1: 21 | W1: 22 | X1: 23 | Y1: 24 | Z1: 25
A2: 1 | B2: 48.372601 | C2: 43.03439 | D2: 45.60589 | E2: 54.85072 | F2: 61.35285 | G2: 64.50112 | H2: 65.6686 | I2: 66.1384 | J2: 61.9625 | K2: 59.82798 | L2: 67.39609 | M2: 64.25028 | N2: 58.62819 | O2: 73.96315 | P2: 62.47168 | Q2: 64.0912 | R2: 59.53288 | S2: 62.48954 | T2: 63.09998 | U2: 59.64858 | V2: 61.99094 | W2: 70.48712 | X2: 67.98076 | Y2: 73.69052 | Z2: 65.39024
A3: 2 | B3: 45.981315 | C3: 42.67152 | D3: 47.34412 | E3: 38.41554 | F3: 65.20173 | G3: 64.8257 | H3: 60.28271 | I3: 63.99498 | J3: 57.70466 | K3: 67.21765 | L3: 68.26962 | M3: 61.76962 | N3: 65.75604 | O3: 58.32429 | P3: 58.94795 | Q3: 58.63395 | R3: 58.33442 | S3: 62.37592 | T3: 59.51518 | U3: 56.15318 | V3: 58.40751 | W3: 63.02501 | X3: 60.47817 | Y3: 64.8712 | Z3: 67.18584
A4: 3 | B4: 41.264035 | C4: 34.01286 | D4: 45.90652 | E4: 40.17691 | F4: 52.90956 | G4: 63.34872 | H4: 58.10026 | I4: 55.96796 | J4: 54.08866 | K4: 49.29041 | L4: 51.30876 | M4: 56.79613 | N4: 62.71403 | O4: 51.61082 | P4: 57.81863 | Q4: 52.26899 | R4: 50.58234 | S4: 48.88982 | T4: 52.04521 | U4: 53.04523 | V4: 58.74502 | W4: 53.60306 | X4: 59.83336 | Y4: 54.92083 | Z4: 57.05241
A5: 4 | B5: 31.881842 | C5: 26.74015 | D5: 32.06491 | E5: 28.89621 | F5: 45.60606 | G5: 45.63141 | H5: 46.65736 | I5: 47.64903 | J5: 50.62447 | K5: 46.24056 | L5: 44.9755 | M5: 45.715 | N5: 47.12248 | O5: 43.37396 | P5: 40.0156 | Q5: 41.91537 | R5: 42.739 | S5: 37.6448 | T5: 42.41475 | U5: 36.49956 | V5: 50.69806 | W5: 50.48823 | X5: 47.66105 | Y5: 49.94612 | Z5: 51.16339
A6: 5 | B6: 16.716245 | C6: 11.96853 | D6: 23.22901 | E6: 19.07446 | F6: 32.68734 | G6: 37.16354 | H6: 42.20898 | I6: 40.17431 | J6: 30.45153 | K6: 33.20845 | L6: 29.63665 | M6: 33.06364 | N6: 30.37593 | O6: 37.8658 | P6: 34.13021 | Q6: 30.60807 | R6: 29.6044 | S6: 29.32984 | T6: 33.09912 | U6: 29.14203 | V6: 43.89168 | W6: 35.97695 | X6: 36.8121 | Y6: 33.32749 | Z6: 35.3292
A7: 6 | B7: 17.467445 | C7: 13.58961 | D7: 7.184844 | E7: 15.64947 | F7: 34.22795 | G7: 34.51706 | H7: 34.2589 | I7: 24.3217 | J7: 25.73819 | K7: 32.07596 | L7: 29.15583 | M7: 28.58477 | N7: 36.32134 | O7: 33.50229 | P7: 30.49412 | Q7: 20.1961 | R7: 17.09382 | S7: 26.31703 | T7: 22.9667 | U7: 24.4819 | V7: 34.9783 | W7: 31.63932 | X7: 33.41651 | Y7: 32.53562 | Z7: 33.97205
A8: 7 | B8: 7.5510076 | C8: 8.699989 | D8: 19.03749 | E8: 17.93394 | F8: 27.17614 | G8: 31.69488 | H8: 28.18721 | I8: 28.09584 | J8: 25.72823 | K8: 19.90808 | L8: 28.75564 | M8: 29.95579 | N8: 25.79784 | O8: 25.88748 | P8: 29.1029 | Q8: 28.07673 | R8: 21.86861 | S8: 24.04761 | T8: 26.15213 | U8: 23.07642 | V8: 29.48809 | W8: 26.70215 | X8: 25.63716 | Y8: 31.06309 | Z8: 32.29173
A9: 8 | B9: 17.89665 | C9: 15.95301 | D9: 21.15199 | E9: 20.50961 | F9: 33.30808 | G9: 30.14605 | H9: 28.38525 | I9: 29.95599 | J9: 37.03885 | K9: 31.73249 | L9: 32.19595 | M9: 31.87608 | N9: 32.66167 | O9: 32.43608 | P9: 35.07967 | Q9: 23.03219 | R9: 26.05456 | S9: 23.73681 | T9: 29.02101 | U9: 28.91493 | V9: 34.90864 | W9: 32.23481 | X9: 35.45549 | Y9: 33.89453 | Z9: 30.20751
A10: 9 | B10: 23.858359 | C10: 24.27117 | D10: 33.72364 | E10: 23.6358 | F10: 32.24717 | G10: 43.3497 | H10: 43.58635 | I10: 40.86696 | J10: 49.80725 | K10: 34.28767 | L10: 40.66603 | M10: 39.22003 | N10: 41.29191 | O10: 40.39401 | P10: 45.49954 | Q10: 37.11011 | R10: 34.82624 | S10: 35.16707 | T10: 33.05688 | U10: 39.37663 | V10: 33.31255 | W10: 37.72271 | X10: 38.44196 | Y10: 39.58705 | Z10: 39.48578
A11: 10 | B11: 36.668821 | C11: 37.79923 | D11: 38.29374 | E11: 37.31962 | F11: 54.29579 | G11: 51.88991 | H11: 54.83219 | I11: 52.48792 | J11: 49.82058 | K11: 51.88704 | L11: 49.70395 | M11: 51.01871 | N11: 51.07536 | O11: 51.2924 | P11: 52.32603 | Q11: 44.53314 | R11: 47.84123 | S11: 45.55332 | T11: 41.81746 | U11: 47.58173 | V11: 46.04145 | W11: 46.35384 | X11: 49.97986 | Y11: 47.16773 | Z11: 50.16205
A12: 11 | B12: 48.492746 | C12: 49.63289 | D12: 51.95459 | E12: 36.31987 | F12: 58.74052 | G12: 66.07627 | H12: 60.6329 | I12: 54.43423 | J12: 62.29771 | K12: 67.70916 | L12: 61.1109 | M12: 57.67762 | N12: 56.11582 | O12: 53.44733 | P12: 62.43122 | Q12: 56.04542 | R12: 54.4751 | S12: 52.19638 | T12: 55.8804 | U12: 57.83857 | V12: 50.39193 | W12: 56.15891 | X12: 53.9583 | Y12: 62.10675 | Z12: 53.35786
A13: 12 | B13: 53.228306 | C13: 56.42987 | D13: 57.40225 | E13: 50.58443 | F13: 63.23742 | G13: 63.47292 | H13: 63.34417 | I13: 62.70112 | J13: 62.5038 | K13: 66.10261 | L13: 63.64299 | M13: 62.41475 | N13: 69.98877 | O13: 58.33992 | P13: 64.66574 | Q13: 62.51501 | R13: 58.2317 | S13: 56.8414 | T13: 64.34764 | U13: 60.89128 | V13: 62.41059 | W13: 59.15511 | X13: 60.93354 | Y13: 56.69977 | Z13: 61.20039
... A37: 36 | B37: 74.27405 | C37: 82.99011 | D37: 47.9173 | E37: 49.11768 | F37: 63.42397 | G37: 56.25815 | H37: 59.05574 | I37: 64.37793 | J37: 58.65737 | K37: 61.78526 | L37: 57.14488 | M37: 62.43085 | N37: 59.4597 | O37: 64.97863 | P37: 62.41873 | Q37: 50.13054 | R37: 53.42225 | S37: 58.46382 | T37: 55.5709 | U37: 57.73882 | V37: 57.2214 | W37: 58.49525 | X37: 62.90944 | Y37: 55.39277 | Z37: 48.21269
B41: 26 | C41: 27 | D41: 28 | E41: 29 | F41: 30 | G41: 31 | H41: 32 | I41: 33 | J41: 34 | K41: 35 | L41: 36 | M41: 37 | N41: 38 | O41: 39 | P41: 40 | Q41: 41 | R41: 42 | S41: 43 | T41: 44 | U41: 45 | V41: 46 | W41: 47 | X41: 48 | Y41: 49 | Z41: 50
A42: Месяц
A43: 1 | B43: 65.73664 | C43: 67.43103 | D43: 70.26319 | E43: 61.51706 | F43: 70.91399 | G43: 68.61799 | H43: 63.25546 | I43: 63.7549 | J43: 63.09063 | K43: 58.3007 | L43: 65.05769 | M43: 64.79773 | N43: 58.36074 | O43: 64.62225 | P43: 63.49075 | Q43: 61.40321 | R43: 59.01602 | S43: 61.33589 | T43: 68.76572 | U43: 68.33704 | V43: 65.1735 | W43: 73.2036 | X43: 65.11773 | Y43: 70.2925 | Z43: 66.02528
A44: 2 | B44: 68.19688 | C44: 68.90936 | D44: 64.42142 | E44: 64.16663 | F44: 62.06934 | G44: 66.01923 | H44: 51.75223 | I44: 56.375 | J44: 54.02848 | K44: 58.21596 | L44: 58.21231 | M44: 59.29314 | N44: 57.53304 | O44: 55.37405 | P44: 60.33472 | Q44: 61.88073 | R44: 58.6844 | S44: 55.2716 | T44: 65.12733 | U44: 59.30923 | V44: 59.46538 | W44: 59.37489 | X44: 61.35232 | Y44: 60.68358 | Z44: 64.08636
A45: 3 | B45: 54.57873 | C45: 51.81763 | D45: 55.85827 | E45: 53.23883 | F45: 54.13565 | G45: 45.27651 | H45: 53.83837 | I45: 48.544 | J45: 57.2025 | K45: 44.48419 | L45: 41.47579 | M45: 48.1125 | N45: 54.76303 | O45: 50.9509 | P45: 46.86106 | Q45: 51.63521 | R45: 48.61403 | S45: 50.55313 | T45: 53.73781 | U45: 60.22407 | V45: 56.10631 | W45: 56.46543 | X45: 56.56441 | Y45: 56.35262 | Z45: 56.45462
A46: 4 | B46: 40.65192 | C46: 45.63889 | D46: 49.57852 | E46: 43.52198 | F46: 44.44076 | G46: 42.8315 | H46: 33.86109 | I46: 39.65645 | J46: 34.91141 | K46: 39.84807 | L46: 34.46184 | M46: 37.74896 | N46: 40.6997 | O46: 48.55931 | P46: 39.20655 | Q46: 41.45658 | R46: 34.88474 | S46: 44.63634 | T46: 45.27464 | U46: 53.47375 | V46: 47.7172 | W46: 47.3477 | X46: 46.05229 | Y46: 48.86147 | Z46: 50.37006
A47: 5 | B47: 31.99366 | C47: 27.60309 | D47: 36.86415 | E47: 39.66565 | F47: 31.20719 | G47: 28.21152 | H47: 17.34298 | I47: 26.42228 | J47: 25.13291 | K47: 24.1693 | L47: 23.73911 | M47: 27.53075 | N47: 30.61174 | O47: 37.18586 | P47: 25.26781 | Q47: 34.48241 | R47: 31.50057 | S47: 30.06736 | T47: 36.07213 | U47: 41.94614 | V47: 43.13234 | W47: 32.42782 | X47: 41.0721 | Y47: 37.73938 | Z47: 41.75999
A48: 6 | B48: 22.00066 | C48: 21.5521 | D48: 24.2985 | E48: 20.93767 | F48: 34.0845 | G48: 20.82203 | H48: 17.35499 | I48: 18.68501 | J48: 14.55988 | K48: 21.28642 | L48: 15.66057 | M48: 16.07538 | N48: 22.62027 | O48: 24.6833 | P48: 29.08428 | Q48: 27.73834 | R48: 23.13558 | S48: 24.61619 | T48: 30.847 | U48: 28.88869 | V48: 28.64859 | W48: 29.92424 | X48: 32.68618 | Y48: 34.70563 | Z48: 26.99717
A49: 7 | B49: 20.47853 | C49: 24.41224 | D49: 19.18878 | E49: 28.25085 | F49: 26.63316 | G49: 24.16135 | H49: 17.73265 | I49: 17.23766 | J49: 13.88367 | K49: 15.71013 | L49: 18.42754 | M49: 19.37186 | N49: 24.08023 | O49: 14.83798 | P49: 21.68156 | Q49: 19.13189 | R49: 24.064 | S49: 23.69325 | T49: 24.53089 | U49: 24.1379 | V49: 19.21264 | W49: 28.05082 | X49: 22.10744 | Y49: 32.50897 | Z49: 29.34914
A50: 8 | B50: 30.29027 | C50: 26.24745 | D50: 23.32861 | E50: 25.60915 | F50: 25.08997 | G50: 30.45458 | H50: 17.66514 | I50: 25.39575 | J50: 30.8645 | K50: 22.44912 | L50: 16.15534 | M50: 16.33592 | N50: 21.5439 | O50: 18.60418 | P50: 20.85666 | Q50: 26.77985 | R50: 23.08594 | S50: 22.14913 | T50: 31.76572 | U50: 36.26375 | V50: 27.87978 | W50: 30.36836 | X50: 20.98675 | Y50: 26.72365 | Z50: 25.71288
A51: 9 | B51: 38.01081 | C51: 38.09745 | D51: 44.71435 | E51: 34.90681 | F51: 30.78131 | G51: 41.9191 | H51: 31.74425 | I51: 31.78377 | J51: 29.84135 | K51: 35.3706 | L51: 34.80998 | M51: 35.68057 | N51: 29.64535 | O51: 36.16454 | P51: 29.56651 | Q51: 34.46019 | R51: 36.07599 | S51: 28.59015 | T51: 37.29471 | U51: 30.62455 | V51: 34.24306 | W51: 29.14878 | X51: 36.68522 | Y51: 40.57529 | Z51: 40.57019
A52: 10 | B52: 48.90082 | C52: 49.79518 | D52: 44.43375 | E52: 54.99367 | F52: 50.30472 | G52: 50.66937 | H52: 41.38213 | I52: 41.93208 | J52: 43.15414 | K52: 48.48252 | L52: 43.8782 | M52: 41.22658 | N52: 37.87705 | O52: 41.06194 | P52: 49.99301 | Q52: 43.90055 | R52: 42.01086 | S52: 41.91107 | T52: 45.73344 | U52: 47.08226 | V52: 42.83465 | W52: 39.21139 | X52: 45.07146 | Y52: 46.61493 | Z52: 45.21341
A53: 11 | B53: 62.34257 | C53: 62.77381 | D53: 59.63913 | E53: 57.91885 | F53: 59.16928 | G53: 62.06754 | H53: 56.79898 | I53: 53.17788 | J53: 53.38645 | K53: 53.50415 | L53: 54.25494 | M53: 55.08276 | N53: 50.19352 | O53: 53.47385 | P53: 42.37859 | Q53: 47.51819 | R53: 45.8952 | S53: 50.08591 | T53: 58.22577 | U53: 53.14797 | V53: 53.58989 | W53: 53.09044 | X53: 50.98999 | Y53: 56.6592 | Z53: 51.98611
A54: 12 | B54: 65.93635 | C54: 61.1655 | D54: 66.51643 | E54: 66.64246 | F54: 63.30847 | G54: 65.25872 | H54: 61.63403 | I54: 54.68186 | J54: 52.91221 | K54: 68.79486 | L54: 56.9567 | M54: 62.24594 | N54: 56.90208 | O54: 57.86806 | P54: 56.97487 | Q54: 56.70091 | R54: 61.93268 | S54: 61.30929 | T54: 61.90537 | U54: 60.0065 | V54: 60.27738 | W54: 56.34376 | X54: 61.08248 | Y54: 59.82213 | Z54: 57.71587
... A78: 36 | B78: 59.73942 | C78: 53.00422 | D78: 58.13854 | E78: 57.39703 | F78: 56.08251 | G78: 57.88306 | H78: 50.03559 | I78: 50.62209 | J78: 47.482 | K78: 44.88533 | L78: 47.65304 | M78: 48.29514 | N78: 51.08733 | O78: 58.4369 | P78: 59.55894 | Q78: 52.37441 | R78: 57.59076 | S78: 57.80952 | T78: 52.19928 | U78: 58.39976 | V78: 51.50278 | W78: 56.53968 | X78: 57.45391 | Y78: 52.79484 | Z78: 54.41196

Sheet 500 кВ
A1: Месяц | B1: 1 | C1: 2 | D1: 3 | E1: 4 | F1: 5 | G1: 6 | H1: 7 | I1: 8 | J1: 9 | K1: 10 | L1: 11 | M1: 12 | N1: 13 | O1: 14 | P1: 15 | Q1: 16 | R1: 17 | S1: 18 | T1: 19 | U1: 20 | V1: 21 | W1: 22 | X1: 23 | Y1: 24 | Z1: 25
A2: 1 | B2: 64.78107 | C2: 71.53533 | D2: 67.603 | E2: 52.535578 | F2: 49.02314 | G2: 66.61593 | H2: 58.62834 | I2: 37.97652 | J2: 41.62285 | K2: 49.97165 | L2: 35.95674 | M2: 41.39069 | N2: 48.12459 | O2: 45.05885 | P2: 41.51458 | Q2: 52.40178 | R2: 35.7974 | S2: 41.553208 | T2: 45.40498 | U2: 42.20409 | V2: 44.24384 | W2: 48.08306 | X2: 46.04531 | Y2: 52.86343 | Z2: 48.88619
A3: 2 | B3: 55.05554 | C3: 49.72764 | D3: 46.18196 | E3: 67.452265 | F3: 58.30606 | G3: 68.27893 | H3: 54.38696 | I3: 32.2944 | J3: 30.82932 | K3: 26.45319 | L3: 20.98751 | M3: 32.83597 | N3: 36.69965 | O3: 37.32996 | P3: 33.80407 | Q3: 48.04416 | R3: 33.98337 | S3: 45.03201 | T3: 50.51334 | U3: 46.52304 | V3: 48.31927 | W3: 41.82509 | X3: 40.03285 | Y3: 44.95244 | Z3: 42.08268
A4: 3 | B4: 67.21981 | C4: 47.05966 | D4: 46.13787 | E4: 55.828799 | F4: 48.69339 | G4: 63.36587 | H4: 50.7519 | I4: 33.53044 | J4: 26.21933 | K4: 20.79181 | L4: 16.05193 | M4: 36.08445 | N4: 41.69926 | O4: 39.59977 | P4: 30.61171 | Q4: 34.28128 | R4: 27.73342 | S4: 37.793771 | T4: 42.79209 | U4: 39.47715 | V4: 40.51466 | W4: 40.23334 | X4: 39.20183 | Y4: 45.94413 | Z4: 42.01112
A5: 4 | B5: 38.64014 | C5: 50.90541 | D5: 39.41882 | E5: 47.827227 | F5: 40.85262 | G5: 39.9336 | H5: 47.60104 | I5: 30.64821 | J5: 30.56949 | K5: 28.74602 | L5: 19.02358 | M5: 24.39348 | N5: 27.14684 | O5: 32.46667 | P5: 31.6374 | Q5: 36.35616 | R5: 20.88014 | S5: 18.911394 | T5: 20.32571 | U5: 19.59586 | V5: 19.5992 | W5: 28.01978 | X5: 28.02444 | Y5: 33.3323 | Z5: 30.23605
A6: 5 | B6: 39.34287 | C6: 41.33683 | D6: 40.73938 | E6: 48.020071 | F6: 38.58454 | G6: 30.55069 | H6: 38.43274 | I6: 14.26029 | J6: 5.230941 | K6: 14.47933 | L6: 8.210043 | M6: 17.5467 | N6: 18.99065 | O6: 23.33018 | P6: 16.36925 | Q6: 22.88601 | R6: 29.42082 | S6: 22.01375 | T6: 27.03907 | U6: 24.75935 | V6: 23.77556 | W6: 26.09717 | X6: 27.09096 | Y6: 34.91147 | Z6: 30.34951
A7: 6 | B7: 44.29023 | C7: 30.29662 | D7: 22.65783 | E7: 33.965478 | F7: 27.64736 | G7: 41.83013 | H7: 36.44806 | I7: 12.62926 | J7: 9.244577 | K7: 5.143031 | L7: 1.255375 | M7: 14.42077 | N7: 15.32177 | O7: 27.92544 | P7: 11.95106 | Q7: 26.80865 | R7: 14.33919 | S7: 15.098717 | T7: 19.38902 | U7: 17.86519 | V7: 16.24964 | W7: 14.62629 | X7: 16.25384 | Y7: 21.48835 | Z7: 18.43489
A8: 7 | B8: 36.70968 | C8: 39.36515 | D8: 28.86617 | E8: 19.089696 | F8: 17.46248 | G8: 28.24051 | H8: 25.47894 | I8: 6.721111 | J8: 9.208085 | K8: 7.701744 | L8: 2.953604 | M8: 21.87748 | N8: 25.02034 | O8: 14.39793 | P8: 16.10754 | Q8: 30.23654 | R8: 8.371834 | S8: 12.051994 | T8: 15.31845 | U8: 14.43704 | V8: 12.74676 | W8: 17.91192 | X8: 19.6162 | Y8: 26.16197 | Z8: 22.3436
A9: 8 | B9: 25.04076 | C9: 29.13982 | D9: 25.26171 | E9: 17.429234 | F9: 17.46792 | G9: 33.3747 | H9: 30.7462 | I9: 8.576623 | J9: 11.01528 | K9: 19.63271 | L9: 11.80334 | M9: 20.62771 | N9: 22.32165 | O9: 21.56157 | P9: 20.73976 | Q9: 22.52301 | R9: 16.54533 | S9: 24.364314 | T9: 30.05076 | U9: 27.54813 | V9: 26.37459 | W9: 24.43349 | X9: 25.62302 | Y9: 32.64513 | Z9: 28.5489
A10: 9 | B10: 54.70554 | C10: 47.2224 | D10: 42.88757 | E10: 34.20252 | F10: 30.80869 | G10: 36.72236 | H10: 45.86658 | I10: 23.05167 | J10: 14.78563 | K10: 12.91821 | L10: 9.980448 | M10: 37.38444 | N10: 43.03383 | O10: 32.91956 | P10: 23.07185 | Q10: 34.67393 | R10: 21.20323 | S10: 29.116213 | T10: 33.43216 | U10: 31.25012 | V10: 31.04169 | W10: 24.56101 | X10: 24.78743 | Y10: 28.11417 | Z10: 26.17357
A11: 10 | B11: 48.71057 | C11: 59.67175 | D11: 43.33172 | E11: 48.893238 | F11: 43.15924 | G11: 52.64178 | H11: 53.93801 | I11: 40.55029 | J11: 32.03624 | K11: 44.0601 | L11: 32.19107 | M11: 34.00996 | N11: 36.67685 | O11: 33.67829 | P11: 39.33842 | Q11: 46.17013 | R11: 39.64575 | S11: 44.965351 | T11: 51.12639 | U11: 47.34214 | V11: 48.26946 | W11: 41.35143 | X11: 40.44411 | Y11: 46.12633 | Z11: 42.8117
A12: 11 | B12: 64.30621 | C12: 64.69889 | D12: 66.65755 | E12: 63.695157 | F12: 55.21456 | G12: 61.48052 | H12: 45.81339 | I12: 50.68768 | J12: 43.64918 | K12: 50.89943 | L12: 38.86632 | M12: 45.71006 | N12: 50.63039 | O12: 46.84308 | P12: 50.94707 | Q12: 60.54943 | R12: 35.88718 | S12: 37.182056 | T12: 37.75924 | U12: 36.69704 | V12: 38.6018 | W12: 51.29747 | X12: 49.4147 | Y12: 55.28454 | Z12: 51.86047
A13: 12 | B13: 54.29508 | C13: 60.74889 | D13: 62.58176 | E13: 52.552073 | F13: 48.94719 | G13: 68.98586 | H13: 61.42287 | I13: 57.02358 | J13: 48.67769 | K13: 46.86868 | L13: 37.78587 | M13: 43.41703 | N13: 52.87325 | O13: 51.64621 | P13: 55.19448 | Q13: 57.37717 | R13: 50.39066 | S13: 53.344665 | T13: 57.56584 | U13: 54.17249 | V13: 56.61498 | W13: 52.42412 | X13: 50.00563 | Y13: 54.11832 | Z13: 51.71925
... A37: 36 | B37: 62.52608 | C37: 64.46652 | D37: 53.86721 | E37: 51.066005 | F37: 47.33207 | G37: 58.35407 | H37: 56.65144 | I37: 85.88405 | J37: 75.51706 | K37: 72.78927 | L37: 61.80086 | M37: 76.86286 | N37: 81.94396 | O37: 80.09439 | P37: 72.37377 | Q37: 81.87799 | R37: 72.33771 | S37: 74.866131 | T37: 79.01934 | U37: 75.79863 | V37: 78.93352 | W37: 74.16308 | X37: 71.1002 | Y37: 74.88784 | Z37: 72.67838
A39: Вариант | B39: 26 | C39: 27 | D39: 28 | E39: 29 | F39: 30 | G39: 31 | H39: 32 | I39: 33 | J39: 34 | K39: 35 | L39: 36 | M39: 37 | N39: 38 | O39: 39 | P39: 40 | Q39: 41 | R39: 42 | S39: 43 | T39: 44 | U39: 45 | V39: 46 | W39: 47 | X39: 48 | Y39: 49 | Z39: 50
A40: Месяц
A41: 1 | B41: 39.609278 | C41: 41.731133 | D41: 36.98496 | E41: 42.36493 | F41: 39.7163 | G41: 37.10076 | H41: 39.9162 | I41: 34.30104 | J41: 40.78382 | K41: 41.28623 | L41: 43.24623 | M41: 24.26375 | N41: 36.17775 | O41: 37.09761 | P41: 35.71068 | Q41: 34.71018 | R41: 44.65432 | S41: 44.46222 | T41: 44.65822 | U41: 34.57903 | V41: 30.38153 | W41: 32.38128 | X41: 31.25574 | Y41: 39.76687
A42: 2 | B42: 47.104294 | C42: 50.978376 | D42: 42.31769 | E42: 50.20033 | F42: 47.76886 | G42: 42.2721 | H42: 48.16866 | I42: 40.09755 | J42: 37.01807 | K42: 37.21103 | L42: 38.13103 | M42: 16.3166 | N42: 28.0446 | O42: 26.46061 | P42: 26.26301 | Q42: 24.69548 | R42: 42.994276 | S42: 43.23164 | T42: 43.62364 | U42: 29.90003 | V42: 26.07156 | W42: 27.78779 | X42: 26.99051 | Y42: 36.21139
A43: 3 | B43: 44.576149 | C43: 49.022166 | D43: 39.10263 | E43: 47.07582 | F43: 42.81746 | G43: 36.94958 | H43: 43.41716 | I43: 36.17302 | J43: 34.51267 | K43: 34.6659 | L43: 34.5459 | M43: 23.98163 | N43: 35.42363 | O43: 38.25588 | P43: 35.96056 | Q43: 32.79558 | R43: 31.420444 | S43: 32.14306 | T43: 32.73106 | U43: 21.37477 | V43: 18.94576 | W43: 19.86327 | X43: 19.3692 | Y43: 30.31937
A44: 4 | B44: 35.291685 | C44: 39.399068 | D44: 30.26946 | E44: 36.59435 | F44: 30.37415 | G44: 25.63906 | H44: 31.17375 | I44: 26.67364 | J44: 21.24215 | K44: 20.89778 | L44: 19.73778 | M44: 19.51138 | N44: 30.56738 | O44: 34.18392 | P44: 31.51606 | Q44: 26.20275 | R44: 25.326786 | S44: 28.10448 | T44: 28.88848 | U44: 17.34817 | V44: 16.86948 | W44: 16.71282 | X44: 15.91269 | Y44: 28.87812
A45: 5 | B45: 17.675563 | C45: 19.702738 | D45: 15.28159 | E45: 17.20627 | F45: 17.56993 | G45: 14.20287 | H45: 18.56943 | I45: 16.97805 | J45: 21.00978 | K45: 20.83547 | L45: 18.63547 | M45: 12.70151 | N45: 23.27151 | O45: 26.67506 | P45: 24.10837 | Q45: 16.74079 | R45: 13.957534 | S45: 17.90229 | T45: 18.88229 | U45: 13.86055 | V45: 15.23813 | W45: 14.05434 | X45: 12.93335 | Y45: 27.81354
A46: 6 | B46: 19.231098 | C46: 22.4438 | D46: 15.38322 | E46: 18.51154 | F46: 15.37068 | G46: 11.14966 | H46: 16.57008 | I46: 15.13239 | J46: 10.57423 | K46: 9.892692 | L46: 6.652692 | M46: 7.602206 | N46: 17.58621 | O46: 20.40008 | P46: 18.11349 | Q46: 9.402386 | R46: 14.115369 | S46: 19.85857 | T46: 21.03457 | U46: 1.359576 | V46: 3.882679 | W46: 2.027127 | X46: 1.663128 | Y46: 18.21597
A47: 7 | B47: 9.5274808 | C47: 10.782624 | D47: 8.154552 | E47: 7.992167 | F47: 16.22062 | G47: 11.73489 | H47: 17.61992 | I47: 16.08961 | J47: 22.46667 | K47: 22.23318 | L47: 17.95318 | M47: 10.0224 | N47: 19.3204 | O47: 22.70237 | P47: 20.14594 | Q47: 11.20538 | R47: 9.8916041 | S47: 15.21577 | T47: 16.58777 | U47: 3.539055 | V47: 6.093613 | W47: 4.123334 | X47: 3.586853 | Y47: 20.29416
A48: 8 | B48: 16.176439 | C48: 17.798177 | D48: 14.37327 | E48: 15.2469 | F48: 22.79551 | G48: 17.92457 | H48: 24.39471 | I48: 21.76406 | J48: 30.53543 | K48: 30.31527 | L48: 24.99527 | M48: 12.10829 | N48: 20.62029 | O48: 22.83092 | P48: 20.83087 | Q48: 12.84381 | R48: 8.0673798 | S48: 11.62538 | T48: 13.19338 | U48: 10.2367 | V48: 11.63977 | W48: 10.14623 | X48: 9.456694 | Y48: 25.14396
A49: 9 | B49: 28.092729 | C49: 30.417156 | D49: 25.4392 | E49: 28.33736 | F49: 25.92835 | G49: 22.91536 | H49: 27.72745 | I49: 25.5671 | J49: 35.56184 | K49: 35.01789 | L49: 28.65789 | M49: 22.71454 | N49: 30.34054 | O49: 33.18616 | P49: 30.88449 | Q49: 24.74764 | R49: 20.257065 | S49: 22.76986 | T49: 24.53386 | U49: 24.91971 | V49: 24.27456 | W49: 23.70614 | X49: 22.46367 | Y49: 36.06032
A50: 10 | B50: 44.607072 | C50: 48.280774 | D50: 40.29494 | E50: 46.42743 | F50: 31.68122 | G50: 30.20092 | H50: 33.68022 | I50: 31.40894 | J50: 33.67739 | K50: 32.37857 | L50: 24.97857 | M50: 29.47321 | N50: 36.11321 | O50: 37.7269 | P50: 36.0104 | Q50: 32.06504 | R50: 35.0451 | S50: 36.39634 | T50: 38.35634 | U50: 30.9287 | V50: 27.89406 | W50: 28.42138 | X50: 27.53864 | Y50: 39.1002
A51: 11 | B51: 42.107739 | C51: 43.581263 | D51: 40.57384 | E51: 44.07786 | F51: 43.78196 | G51: 41.50257 | H51: 45.98086 | I51: 41.50432 | J51: 52.96841 | K51: 52.09171 | L51: 43.65171 | M51: 45.07249 | N51: 50.62649 | O51: 54.5539 | P51: 51.73838 | Q51: 49.66791 | R51: 46.025307 | S51: 46.12331 | T51: 48.27931 | U51: 32.26146 | V51: 27.15393 | W51: 28.6187 | X51: 28.40567 | Y51: 38.38352
A52: 12 | B52: 61.058822 | C52: 65.325803 | D52: 56.06109 | E52: 64.52243 | F52: 60.10196 | G52: 54.57045 | H52: 62.50076 | I52: 54.02552 | J52: 52.59452 | K52: 51.27852 | L52: 41.79852 | M52: 50.34892 | N52: 54.71692 | O52: 58.41344 | P52: 55.70759 | Q52: 54.63257 | R52: 47.856699 | S52: 46.65083 | T52: 49.00283 | U52: 46.74109 | V52: 40.44011 | W52: 42.4026 | X52: 41.34431 | Y52: 49.9592
... A76: 36 | B76: 74.990108 | C76: 77.661915 | D76: 72.65835 | E76: 77.57081 | F76: 78.3033 | G76: 73.78958 | H76: 85.4997 | I76: 78.44365 | J76: 75.60666 | K76: 70.25166 | L76: 35.81166 | M76: 125.2475 | N76: 71.15151 | O76: 72.82861 | P76: 71.08199 | Q76: 69.47175 | R76: 72.806733 | S76: 72.48745 | T76: 79.54345 | U76: 75.08169 | V76: 64.56392 | W76: 66.25881 | X76: 65.04766 | Y76: 74.1313

Sheet 35 кВ
A1: Месяц | B1: 1 | C1: 2 | D1: 3 | E1: 4 | F1: 5 | G1: 6 | H1: 7 | I1: 8 | J1: 9 | K1: 10 | L1: 11 | M1: 12 | N1: 13 | O1: 14 | P1: 15 | Q1: 16 | R1: 17 | S1: 18 | T1: 19 | U1: 20 | V1: 21 | W1: 22 | X1: 23 | Y1: 24 | Z1: 25
A2: 1 | B2: 17 | C2: 17.15 | D2: 14.12 | E2: 16.05 | F2: 15.79 | G2: 15.96 | H2: 17.17 | I2: 14.81 | J2: 15.31 | K2: 16.02 | L2: 17.56 | M2: 17.74 | N2: 16.67 | O2: 16.65 | P2: 18.83 | Q2: 18.12 | R2: 19.22 | S2: 18.36 | T2: 19.06 | U2: 17.52 | V2: 17.11 | W2: 17.24 | X2: 19.31 | Y2: 17.44 | Z2: 16.97
A3: 2 | B3: 15.77 | C3: 15.53 | D3: 14.03 | E3: 13.67 | F3: 14.86 | G3: 16.05 | H3: 15.53 | I3: 16.31 | J3: 16.25 | K3: 16 | L3: 15.88 | M3: 17.38 | N3: 17.09 | O3: 17.34 | P3: 17.11 | Q3: 16.72 | R3: 16.77 | S3: 15.06 | T3: 15.01 | U3: 16.2 | V3: 16.52 | W3: 16.1 | X3: 15.27 | Y3: 15.01 | Z3: 15.79
A4: 3 | B4: 12.88 | C4: 13.92 | D4: 11.69 | E4: 13.18 | F4: 13.59 | G4: 12.57 | H4: 14.25 | I4: 13.1 | J4: 12.61 | K4: 13.13 | L4: 16.05 | M4: 13.91 | N4: 15.88 | O4: 14.98 | P4: 13.09 | Q4: 14.28 | R4: 17.81 | S4: 13.61 | T4: 16.1 | U4: 16.35 | V4: 15.41 | W4: 14.66 | X4: 14.5 | Y4: 15.51 | Z4: 14.48
A5: 4 | B5: 10.72 | C5: 10.33 | D5: 11.47 | E5: 11.15 | F5: 9.25 | G5: 10.17 | H5: 10.19 | I5: 9.26 | J5: 11.35 | K5: 9.53 | L5: 12.84 | M5: 12.56 | N5: 13.38 | O5: 10.43 | P5: 14.44 | Q5: 12.74 | R5: 14.44 | S5: 13.12 | T5: 13.28 | U5: 12.35 | V5: 12.67 | W5: 13.26 | X5: 13.66 | Y5: 12.45 | Z5: 13.42
A6: 5 | B6: 8.34 | C6: 8.97 | D6: 9.34 | E6: 7.75 | F6: 7.03 | G6: 9.17 | H6: 8.17 | I6: 8.03 | J6: 8.13 | K6: 7.45 | L6: 10.48 | M6: 11.49 | N6: 11.36 | O6: 11.68 | P6: 11.74 | Q6: 10.93 | R6: 10.53 | S6: 10.11 | T6: 11.35 | U6: 10.99 | V6: 10.68 | W6: 10.83 | X6: 10.88 | Y6: 11.62 | Z6: 10.15
A7: 6 | B7: 6.71 | C7: 7.76 | D7: 6.9 | E7: 6.51 | F7: 7.49 | G7: 5.56 | H7: 6.77 | I7: 7.5 | J7: 8.26 | K7: 6.33 | L7: 7.28 | M7: 6.77 | N7: 7.32 | O7: 9 | P7: 8.33 | Q7: 8.73 | R7: 9.18 | S7: 6.98 | T7: 7.81 | U7: 6.28 | V7: 6.9 | W7: 7.79 | X7: 8.66 | Y7: 7.93 | Z7: 8.62
A8: 7 | B8: 6.53 | C8: 6.87 | D8: 8.66 | E8: 4.55 | F8: 6.55 | G8: 7.19 | H8: 6.45 | I8: 7.26 | J8: 6.55 | K8: 8.05 | L8: 6.89 | M8: 7.39 | N8: 5.75 | O8: 6.97 | P8: 6.67 | Q8: 8.15 | R8: 7.77 | S8: 4.31 | T8: 8.16 | U8: 7.14 | V8: 6.65 | W8: 7.72 | X8: 4.38 | Y8: 7.61 | Z8: 7.35
A9: 8 | B9: 9.9 | C9: 8.74 | D9: 7.56 | E9: 7.5 | F9: 8.29 | G9: 9.39 | H9: 8.54 | I9: 9.28 | J9: 9.1 | K9: 9.39 | L9: 7.08 | M9: 7.65 | N9: 8.4 | O9: 7.18 | P9: 7.26 | Q9: 8.02 | R9: 6.72 | S9: 8.8 | T9: 6.31 | U9: 7.3 | V9: 5.59 | W9: 7.97 | X9: 7.08 | Y9: 7.45 | Z9: 5.98
A10: 9 | B10: 12.22 | C10: 12.42 | D10: 10 | E10: 10.54 | F10: 12.04 | G10: 12.38 | H10: 9.36 | I10: 11.09 | J10: 12.21 | K10: 11.51 | L10: 8.68 | M10: 7.24 | N10: 11.12 | O10: 7.64 | P10: 9.03 | Q10: 6.9 | R10: 8.57 | S10: 8.43 | T10: 9.04 | U10: 9.86 | V10: 10.23 | W10: 8.74 | X10: 9.34 | Y10: 8.09 | Z10: 9.06
A11: 10 | B11: 14.52 | C11: 15.34 | D11: 15.2 | E11: 13.65 | F11: 12.35 | G11: 13.77 | H11: 13.59 | I11: 14.71 | J11: 12.95 | K11: 13.31 | L11: 11.43 | M11: 13.06 | N11: 10.71 | O11: 10.27 | P11: 12.33 | Q11: 10.91 | R11: 11 | S11: 10.67 | T11: 12.6 | U11: 11.44 | V11: 10.74 | W11: 10.37 | X11: 10.63 | Y11: 12.35 | Z11: 10.85
A12: 11 | B12: 15.42 | C12: 16.27 | D12: 16.03 | E12: 16.38 | F12: 16.17 | G12: 15.23 | H12: 17.4 | I12: 15.49 | J12: 15.18 | K12: 15.76 | L12: 12.72 | M12: 13.84 | N12: 13.42 | O12: 15.08 | P12: 13 | Q12: 13.78 | R12: 14.09 | S12: 14.4 | T12: 14.25 | U12: 13.43 | V12: 15.24 | W12: 14.32 | X12: 12.14 | Y12: 15.99 | Z12: 14.07
A13: 12 | B13: 18.31 | C13: 16.52 | D13: 17.11 | E13: 17.54 | F13: 16.38 | G13: 16.53 | H13: 15.99 | I13: 17.28 | J13: 19.11 | K13: 19.99 | L13: 16.95 | M13: 15.98 | N13: 16.86 | O13: 16.61 | P13: 17.64 | Q13: 16.31 | R13: 16.29 | S13: 16.51 | T13: 16.44 | U13: 18.25 | V13: 17.47 | W13: 16.89 | X13: 15.73 | Y13: 17.49 | Z13: 16.56
... A37: 36 | B37: 17.88 | C37: 16.95 | D37: 18.22 | E37: 16.29 | F37: 18.81 | G37: 16.6 | H37: 15.61 | I37: 17.87 | J37: 17.75 | K37: 17.56 | L37: 18.02 | M37: 19.36 | N37: 19.61 | O37: 18.85 | P37: 19 | Q37: 20.47 | R37: 21 | S37: 20.45 | T37: 19.54 | U37: 20.34 | V37: 19.81 | W37: 18.91 | X37: 19.91 | Y37: 18.85 | Z37: 19.46
A41: Месяц | B41: 1 | C41: 2 | D41: 3 | E41: 4 | F41: 5 | G41: 6 | H41: 7 | I41: 8 | J41: 9 | K41: 10 | L41: 11 | M41: 12 | N41: 13 | O41: 14 | P41: 15 | Q41: 16 | R41: 17 | S41: 18 | T41: 19 | U41: 20 | V41: 21 | W41: 22 | X41: 23 | Y41: 24 | Z41: 25
A42: 1 | B42: 14.34 | C42: 14.45 | D42: 12.03 | E42: 13.57 | F42: 13.37 | G42: 13.5 | H42: 14.47 | I42: 12.59 | J42: 12.98 | K42: 13.55 | L42: 11.83 | M42: 11.98 | N42: 11.12 | O42: 11.11 | P42: 12.85 | Q42: 12.28 | R42: 13.16 | S42: 12.47 | T42: 13.03 | U42: 11.8 | V42: 11.47 | W42: 11.58 | X42: 13.23 | Y42: 11.73 | Z42: 11.36
A43: 2 | B43: 13.58 | C43: 13.39 | D43: 12.19 | E43: 11.9 | F43: 12.85 | G43: 13.81 | H43: 13.39 | I43: 14.01 | J43: 13.96 | K43: 13.76 | L43: 13.44 | M43: 14.64 | N43: 14.41 | O43: 14.61 | P43: 14.43 | Q43: 14.12 | R43: 14.16 | S43: 12.79 | T43: 12.75 | U43: 13.7 | V43: 13.95 | W43: 13.62 | X43: 12.95 | Y43: 12.75 | Z43: 13.37
A44: 3 | B44: 11.67 | C44: 12.5 | D44: 10.72 | E44: 11.91 | F44: 12.24 | G44: 11.42 | H44: 12.77 | I44: 11.85 | J44: 11.46 | K44: 11.87 | L44: 13.81 | M44: 12.09 | N44: 13.67 | O44: 12.95 | P44: 11.43 | Q44: 12.39 | R44: 15.21 | S44: 11.85 | T44: 13.85 | U44: 14.04 | V44: 13.29 | W44: 12.69 | X44: 12.56 | Y44: 13.37 | Z44: 12.55
A45: 4 | B45: 10.29 | C45: 9.98 | D45: 10.89 | E45: 10.64 | F45: 9.11 | G45: 9.85 | H45: 9.87 | I45: 9.12 | J45: 10.79 | K45: 9.34 | L45: 11.64 | M45: 11.42 | N45: 12.07 | O45: 9.71 | P45: 12.92 | Q45: 11.56 | R45: 12.92 | S45: 11.87 | T45: 11.99 | U45: 11.25 | V45: 11.5 | W45: 11.98 | X45: 12.3 | Y45: 11.33 | Z45: 12.1
A46: 5 | B46: 8.42 | C46: 8.92 | D46: 9.22 | E46: 7.95 | F46: 7.37 | G46: 9.08 | H46: 8.29 | I46: 8.17 | J46: 8.25 | K46: 7.71 | L46: 10.1 | M46: 10.91 | N46: 10.8 | O46: 11.05 | P46: 11.1 | Q46: 10.46 | R46: 10.14 | S46: 9.8 | T46: 10.79 | U46: 10.5 | V46: 10.26 | W46: 10.38 | X46: 10.42 | Y46: 11.01 | Z46: 9.83
A47: 6 | B47: 6.67 | C47: 7.51 | D47: 6.82 | E47: 6.51 | F47: 7.29 | G47: 5.75 | H47: 6.72 | I47: 7.3 | J47: 7.91 | K47: 6.36 | L47: 7.57 | M47: 7.17 | N47: 7.6 | O47: 8.94 | P47: 8.41 | Q47: 8.73 | R47: 9.09 | S47: 7.33 | T47: 7.99 | U47: 6.77 | V47: 7.26 | W47: 7.98 | X47: 8.67 | Y47: 8.09 | Z47: 8.65
A48: 7 | B48: 5.61 | C48: 5.88 | D48: 7.31 | E48: 4.03 | F48: 5.63 | G48: 6.14 | H48: 5.54 | I48: 6.19 | J48: 5.63 | K48: 6.83 | L48: 6.81 | M48: 7.22 | N48: 5.9 | O48: 6.87 | P48: 6.63 | Q48: 7.82 | R48: 7.52 | S48: 4.75 | T48: 7.83 | U48: 7.01 | V48: 6.62 | W48: 7.47 | X48: 4.8 | Y48: 7.39 | Z48: 7.18
A49: 8 | B49: 7.13 | C49: 6.2 | D49: 5.26 | E49: 5.21 | F49: 5.84 | G49: 6.72 | H49: 6.04 | I49: 6.63 | J49: 6.49 | K49: 6.72 | L49: 6.05 | M49: 6.51 | N49: 7.1 | O49: 6.13 | P49: 6.19 | Q49: 6.8 | R49: 5.76 | S49: 7.43 | T49: 5.43 | U49: 6.22 | V49: 4.85 | W49: 6.76 | X49: 6.05 | Y49: 6.34 | Z49: 5.17
A50: 9 | B50: 7.91 | C50: 8.07 | D50: 6.14 | E50: 6.57 | F50: 7.77 | G50: 8.04 | H50: 5.62 | I50: 7.01 | J50: 7.9 | K50: 7.34 | L50: 6.15 | M50: 5 | N50: 8.1 | O50: 5.32 | P50: 6.43 | Q50: 4.73 | R50: 6.06 | S50: 5.96 | T50: 6.44 | U50: 7.09 | V50: 7.39 | W50: 6.2 | X50: 6.68 | Y50: 5.68 | Z50: 6.46
A51: 10 | B51: 9.17 | C51: 9.83 | D51: 9.72 | E51: 8.48 | F51: 7.44 | G51: 8.58 | H51: 8.43 | I51: 9.33 | J51: 7.92 | K51: 8.21 | L51: 7.28 | M51: 8.59 | N51: 6.7 | O51: 6.35 | P51: 8 | Q51: 6.87 | R51: 6.94 | S51: 6.67 | T51: 8.22 | U51: 7.28 | V51: 6.73 | W51: 6.43 | X51: 6.64 | Y51: 8.01 | Z51: 6.81
A52: 11 | B52: 10.11 | C52: 10.79 | D52: 10.59 | E52: 10.87 | F52: 10.71 | G52: 9.95 | H52: 11.69 | I52: 10.16 | J52: 9.91 | K52: 10.38 | L52: 7.74 | M52: 8.63 | N52: 8.29 | O52: 9.62 | P52: 7.96 | Q52: 8.59 | R52: 8.84 | S52: 9.08 | T52: 8.96 | U52: 8.31 | V52: 9.76 | W52: 9.02 | X52: 7.28 | Y52: 10.35 | Z52: 8.81
A53: 12 | B53: 13.48 | C53: 12.05 | D53: 12.51 | E53: 12.86 | F53: 11.93 | G53: 12.05 | H53: 11.62 | I53: 12.65 | J53: 14.11 | K53: 14.82 | L53: 11.33 | M53: 10.55 | N53: 11.26 | O53: 11.06 | P53: 11.89 | Q53: 10.82 | R53: 10.8 | S53: 10.98 | T53: 10.93 | U53: 12.37 | V53: 11.75 | W53: 11.28 | X53: 10.36 | Y53: 11.77 | Z53: 11.02
... A77: 36 | B77: 12.09 | C77: 11.34 | D77: 12.36 | E77: 10.81 | F77: 12.83 | G77: 11.06 | H77: 10.27 | I77: 12.08 | J77: 11.98 | K77: 11.83 | L77: 8.65 | M77: 9.71 | N77: 9.92 | O77: 9.31 | P77: 9.42 | Q77: 10.61 | R77: 11.03 | S77: 10.58 | T77: 9.86 | U77: 10.5 | V77: 10.08 | W77: 9.35 | X77: 10.15 | Y77: 9.31 | Z77: 9.8

Sheet 6-10 кВ
B1: 1 | C1: 2 | D1: 3 | E1: 4 | F1: 5 | G1: 6 | H1: 7 | I1: 8 | J1: 9 | K1: 10 | L1: 11 | M1: 12 | N1: 13 | O1: 14 | P1: 15 | Q1: 16 | R1: 17 | S1: 18 | T1: 19 | U1: 20 | V1: 21 | W1: 22 | X1: 23 | Y1: 24 | Z1: 25
A2: Месяц
A3: 1 | B3: 27.96 | C3: 26.46 | D3: 27.98 | E3: 26.91 | F3: 27.03 | G3: 29.3 | H3: 26.64 | I3: 26.18 | J3: 28.41 | K3: 29.42 | L3: 28.67 | M3: 25.57 | N3: 25.95 | O3: 26.25 | P3: 26.34 | Q3: 28.52 | R3: 26.77 | S3: 29.34 | T3: 26.77 | U3: 26.63 | V3: 26.54 | W3: 27.32 | X3: 25.9 | Y3: 25.1 | Z3: 28.15
A4: 2 | B4: 28.74 | C4: 27.99 | D4: 27.21 | E4: 29.07 | F4: 29.98 | G4: 26.8 | H4: 26.32 | I4: 26.8 | J4: 26.45 | K4: 28.19 | L4: 26.12 | M4: 26.8 | N4: 28.15 | O4: 27.01 | P4: 26.83 | Q4: 26.23 | R4: 25.46 | S4: 26.85 | T4: 26.48 | U4: 28.13 | V4: 28.64 | W4: 28.9 | X4: 30.78 | Y4: 26.61 | Z4: 28.93
A5: 3 | B5: 27.74 | C5: 24.89 | D5: 27.11 | E5: 25.72 | F5: 24.07 | G5: 25.88 | H5: 24.76 | I5: 25.37 | J5: 27.03 | K5: 23.17 | L5: 26.83 | M5: 24.6 | N5: 27.26 | O5: 27.18 | P5: 26.58 | Q5: 27.23 | R5: 27.28 | S5: 27.75 | T5: 25.83 | U5: 26.29 | V5: 26.14 | W5: 25.2 | X5: 26.28 | Y5: 28.5 | Z5: 25.63
A6: 4 | B6: 25.59 | C6: 24.52 | D6: 23.41 | E6: 19.47 | F6: 20.85 | G6: 22.98 | H6: 23.72 | I6: 23.92 | J6: 23.07 | K6: 22.7 | L6: 26.99 | M6: 25.33 | N6: 26.15 | O6: 25.25 | P6: 26 | Q6: 22.93 | R6: 24.22 | S6: 25.85 | T6: 26.52 | U6: 23.78 | V6: 23.71 | W6: 27 | X6: 25.59 | Y6: 27.55 | Z6: 24.95
A7: 5 | B7: 19.34 | C7: 23.27 | D7: 19.97 | E7: 19.42 | F7: 21.76 | G7: 21.84 | H7: 20.03 | I7: 20.11 | J7: 22.99 | K7: 19.47 | L7: 21.77 | M7: 22.83 | N7: 25.18 | O7: 24.7 | P7: 23.86 | Q7: 24.68 | R7: 23.36 | S7: 23.07 | T7: 23.2 | U7: 24.58 | V7: 25.26 | W7: 23.38 | X7: 23.57 | Y7: 24.37 | Z7: 22.31
A8: 6 | B8: 19.5 | C8: 17.95 | D8: 19.74 | E8: 18.32 | F8: 20.71 | G8: 21.33 | H8: 19.82 | I8: 20.84 | J8: 18.58 | K8: 17.85 | L8: 22.63 | M8: 21.51 | N8: 22.56 | O8: 21.69 | P8: 20.47 | Q8: 20.51 | R8: 19.9 | S8: 22.87 | T8: 19.42 | U8: 20.45 | V8: 21.07 | W8: 22.16 | X8: 18.73 | Y8: 20.48 | Z8: 19.39
A9: 7 | B9: 19.92 | C9: 18.28 | D9: 17.64 | E9: 17.96 | F9: 17.83 | G9: 16.09 | H9: 18.41 | I9: 19.4 | J9: 16.68 | K9: 21.68 | L9: 18.54 | M9: 20.4 | N9: 21.29 | O9: 18.04 | P9: 21.44 | Q9: 17.97 | R9: 19.27 | S9: 20.04 | T9: 17.63 | U9: 21.58 | V9: 19.74 | W9: 18.88 | X9: 19.19 | Y9: 18.29 | Z9: 17.14
A10: 8 | B10: 16.23 | C10: 19.04 | D10: 17.85 | E10: 17.17 | F10: 21.01 | G10: 17.62 | H10: 18.7 | I10: 18.14 | J10: 16.07 | K10: 18.71 | L10: 20.31 | M10: 18.36 | N10: 17.63 | O10: 19.79 | P10: 17.89 | Q10: 18.67 | R10: 17.05 | S10: 15.73 | T10: 15.35 | U10: 19.65 | V10: 16.19 | W10: 19.4 | X10: 20.62 | Y10: 20.5 | Z10: 18.33
A11: 9 | B11: 18.22 | C11: 16.54 | D11: 19.18 | E11: 19.81 | F11: 21.4 | G11: 20.46 | H11: 17.87 | I11: 19.78 | J11: 21.36 | K11: 19.94 | L11: 18.76 | M11: 20.4 | N11: 20.84 | O11: 18.66 | P11: 19.75 | Q11: 18.71 | R11: 17.64 | S11: 20.84 | T11: 18.46 | U11: 19.75 | V11: 17.9 | W11: 19.38 | X11: 17.95 | Y11: 16.93 | Z11: 19.14
A12: 10 | B12: 26.64 | C12: 23.04 | D12: 20.28 | E12: 21.69 | F12: 21.25 | G12: 18.53 | H12: 21.96 | I12: 22.05 | J12: 23.03 | K12: 22.33 | L12: 18.35 | M12: 22.65 | N12: 19.52 | O12: 18.38 | P12: 19.52 | Q12: 21.39 | R12: 21.09 | S12: 17.9 | T12: 18.97 | U12: 20.2 | V12: 19.25 | W12: 22.62 | X12: 20.88 | Y12: 19.14 | Z12: 20.03
A13: 11 | B13: 26.11 | C13: 23.94 | D13: 21.79 | E13: 26.67 | F13: 24.21 | G13: 23.72 | H13: 22.76 | I13: 22.9 | J13: 21.13 | K13: 22.25 | L13: 21.66 | M13: 23.25 | N13: 25.52 | O13: 23.23 | P13: 22.97 | Q13: 22.38 | R13: 23.23 | S13: 19.9 | T13: 23.48 | U13: 22.26 | V13: 22.82 | W13: 22.09 | X13: 20.42 | Y13: 21.59 | Z13: 22.76
A14: 12 | B14: 27.14 | C14: 26.77 | D14: 27.59 | E14: 25.87 | F14: 25.99 | G14: 25.08 | H14: 28.06 | I14: 24.93 | J14: 26.56 | K14: 26.75 | L14: 24.81 | M14: 23.33 | N14: 23.85 | O14: 24.84 | P14: 23.32 | Q14: 23 | R14: 23.95 | S14: 24.44 | T14: 24.29 | U14: 26.05 | V14: 25.99 | W14: 24.02 | X14: 23.98 | Y14: 23.24 | Z14: 24.01
... A38: 36 | B38: 27.28 | C38: 29.69 | D38: 25.34 | E38: 26.89 | F38: 26.89 | G38: 26 | H38: 28.01 | I38: 30.72 | J38: 29.18 | K38: 28.67 | L38: 26.69 | M38: 25.91 | N38: 24.87 | O38: 21.75 | P38: 25.65 | Q38: 25.66 | R38: 26.06 | S38: 24.51 | T38: 24.49 | U38: 22.76 | V38: 24.75 | W38: 26.58 | X38: 25.96 | Y38: 25.46 | Z38: 23.12
A42: Месяц | B42: 26 | C42: 27 | D42: 28 | E42: 29 | F42: 30 | G42: 31 | H42: 32 | I42: 33 | J42: 34 | K42: 35 | L42: 36 | M42: 37 | N42: 38 | O42: 39 | P42: 40 | Q42: 41 | R42: 42 | S42: 43 | T42: 44 | U42: 45 | V42: 46 | W42: 47 | X42: 48 | Y42: 49 | Z42: 50
A43: 1 | B43: 28.19 | C43: 26.86 | D43: 28.21 | E43: 27.27 | F43: 27.37 | G43: 29.38 | H43: 27.03 | I43: 26.62 | J43: 28.6 | K43: 29.5 | L43: 27.97 | M43: 25.22 | N43: 25.55 | O43: 25.83 | P43: 25.9 | Q43: 27.84 | R43: 26.29 | S43: 28.57 | T43: 26.28 | U43: 26.16 | V43: 26.08 | W43: 26.78 | X43: 25.51 | Y43: 24.8 | Z43: 27.51
A44: 2 | B44: 28.77 | C44: 28.1 | D44: 27.41 | E44: 29.06 | F44: 29.87 | G44: 27.04 | H44: 26.62 | I44: 27.04 | J44: 26.73 | K44: 28.27 | L44: 26.56 | M44: 27.17 | N44: 28.36 | O44: 27.35 | P44: 27.19 | Q44: 26.66 | R44: 25.98 | S44: 27.21 | T44: 26.88 | U44: 28.35 | V44: 28.8 | W44: 29.03 | X44: 30.7 | Y44: 27 | Z44: 29.06
A45: 3 | B45: 27.4 | C45: 24.87 | D45: 26.84 | E45: 25.61 | F45: 24.14 | G45: 25.76 | H45: 24.76 | I45: 25.3 | J45: 26.78 | K45: 23.35 | L45: 27.07 | M45: 25.09 | N45: 27.45 | O45: 27.38 | P45: 26.84 | Q45: 27.42 | R45: 27.47 | S45: 27.88 | T45: 26.18 | U45: 26.59 | V45: 26.45 | W45: 25.62 | X45: 26.58 | Y45: 28.55 | Z45: 26
A46: 4 | B46: 24.8 | C46: 23.85 | D46: 22.86 | E46: 19.36 | F46: 20.59 | G46: 22.47 | H46: 23.14 | I46: 23.31 | J46: 22.56 | K46: 22.23 | L46: 26.74 | M46: 25.26 | N46: 25.99 | O46: 25.2 | P46: 25.86 | Q46: 23.13 | R46: 24.28 | S46: 25.73 | T46: 26.32 | U46: 23.89 | V46: 23.83 | W46: 26.74 | X46: 25.5 | Y46: 27.24 | Z46: 24.93
A47: 5 | B47: 18.49 | C47: 21.98 | D47: 19.05 | E47: 18.56 | F47: 20.64 | G47: 20.72 | H47: 19.1 | I47: 19.18 | J47: 21.73 | K47: 18.61 | L47: 21.41 | M47: 22.34 | N47: 24.43 | O47: 24.01 | P47: 23.26 | Q47: 23.98 | R47: 22.82 | S47: 22.56 | T47: 22.67 | U47: 23.9 | V47: 24.51 | W47: 22.84 | X47: 23.01 | Y47: 23.72 | Z47: 21.88
A48: 6 | B48: 18.02 | C48: 16.64 | D48: 18.23 | E48: 16.97 | F48: 19.09 | G48: 19.64 | H48: 18.3 | I48: 19.21 | J48: 17.19 | K48: 16.55 | L48: 21.42 | M48: 20.42 | N48: 21.35 | O48: 20.58 | P48: 19.49 | Q48: 19.53 | R48: 18.99 | S48: 21.63 | T48: 18.56 | U48: 19.47 | V48: 20.02 | W48: 21 | X48: 17.95 | Y48: 19.5 | Z48: 18.53
A49: 7 | B49: 18.06 | C49: 16.6 | D49: 16.03 | E49: 16.31 | F49: 16.2 | G49: 14.65 | H49: 16.72 | I49: 17.59 | J49: 15.17 | K49: 19.62 | L49: 17.16 | M49: 18.81 | N49: 19.61 | O49: 16.72 | P49: 19.74 | Q49: 16.65 | R49: 17.81 | S49: 18.5 | T49: 16.35 | U49: 19.86 | V49: 18.23 | W49: 17.46 | X49: 17.74 | Y49: 16.93 | Z49: 15.91
A50: 8 | B50: 14.82 | C50: 17.31 | D50: 16.26 | E50: 15.66 | F50: 19.07 | G50: 16.05 | H50: 17.01 | I50: 16.52 | J50: 14.68 | K50: 17.03 | L50: 18.4 | M50: 16.67 | N50: 16.02 | O50: 17.95 | P50: 16.25 | Q50: 16.94 | R50: 15.51 | S50: 14.33 | T50: 13.99 | U50: 17.82 | V50: 14.75 | W50: 17.59 | X50: 18.68 | Y50: 18.57 | Z50: 16.65
A51: 9 | B51: 17 | C51: 15.5 | D51: 17.85 | E51: 18.41 | F51: 19.82 | G51: 18.99 | H51: 16.68 | I51: 18.38 | J51: 19.78 | K51: 18.52 | L51: 17.07 | M51: 18.52 | N51: 18.92 | O51: 16.98 | P51: 17.95 | Q51: 17.02 | R51: 16.08 | S51: 18.92 | T51: 16.8 | U51: 17.95 | V51: 16.31 | W51: 17.62 | X51: 16.35 | Y51: 15.44 | Z51: 17.41
A52: 10 | B52: 25.16 | C52: 21.95 | D52: 19.5 | E52: 20.76 | F52: 20.37 | G52: 17.95 | H52: 20.99 | I52: 21.08 | J52: 21.95 | K52: 21.32 | L52: 17.11 | M52: 20.93 | N52: 18.15 | O52: 17.14 | P52: 18.15 | Q52: 19.82 | R52: 19.54 | S52: 16.71 | T52: 17.66 | U52: 18.75 | V52: 17.91 | W52: 20.91 | X52: 19.36 | Y52: 17.82 | Z52: 18.61
A53: 11 | B53: 25.47 | C53: 23.54 | D53: 21.63 | E53: 25.96 | F53: 23.78 | G53: 23.34 | H53: 22.49 | I53: 22.61 | J53: 21.04 | K53: 22.04 | L53: 20.73 | M53: 22.14 | N53: 24.16 | O53: 22.12 | P53: 21.89 | Q53: 21.37 | R53: 22.13 | S53: 19.17 | T53: 22.35 | U53: 21.26 | V53: 21.76 | W53: 21.11 | X53: 19.63 | Y53: 20.67 | Z53: 21.71
A54: 12 | B54: 27.08 | C54: 26.75 | D54: 27.49 | E54: 25.96 | F54: 26.06 | G54: 25.25 | H54: 27.9 | I54: 25.12 | J54: 26.57 | K54: 26.74 | L54: 24.31 | M54: 23 | N54: 23.46 | O54: 24.34 | P54: 22.99 | Q54: 22.71 | R54: 23.55 | S54: 23.98 | T54: 23.85 | U54: 25.41 | V54: 25.36 | W54: 23.61 | X54: 23.58 | Y54: 22.92 | Z54: 23.6
... A78: 36 | B78: 26.74 | C78: 28.88 | D78: 25.01 | E78: 26.39 | F78: 26.39 | G78: 25.61 | H78: 27.39 | I78: 29.8 | J78: 28.43 | K78: 27.97 | L78: 25.43 | M78: 24.74 | N78: 23.82 | O78: 21.04 | P78: 24.51 | Q78: 24.52 | R78: 24.88 | S78: 23.49 | T78: 23.48 | U78: 21.94 | V78: 23.71 | W78: 25.34 | X78: 24.79 | Y78: 24.34 | Z78: 22.26

Sheet 0.4 кВ
A1: Вариант | B1: 1 | C1: 2 | D1: 3 | E1: 4 | F1: 5 | G1: 6 | H1: 7 | I1: 8 | J1: 9 | K1: 10 | L1: 11 | M1: 12 | N1: 13 | O1: 14 | P1: 15 | Q1: 16 | R1: 17 | S1: 18 | T1: 19 | U1: 20 | V1: 21 | W1: 22 | X1: 23 | Y1: 24 | Z1: 25
A2: Месяц
A3: 1 | B3: 28.19 | C3: 28.91 | D3: 28.43 | E3: 29.01 | F3: 29.67 | G3: 28.23 | H3: 28.58 | I3: 27.99 | J3: 27.46 | K3: 29.52 | L3: 33.34 | M3: 32.76 | N3: 35.28 | O3: 34.25 | P3: 34.17 | Q3: 35.23 | R3: 35.56 | S3: 35.38 | T3: 34.26 | U3: 34.96 | V3: 35.1 | W3: 34.93 | X3: 34.34 | Y3: 34.5 | Z3: 34.05
A4: 2 | B4: 28.49 | C4: 28.17 | D4: 28.62 | E4: 26.89 | F4: 29.66 | G4: 28.94 | H4: 27.99 | I4: 27.26 | J4: 30.66 | K4: 28.64 | L4: 28.03 | M4: 29.93 | N4: 29.53 | O4: 29.27 | P4: 30.76 | Q4: 27.25 | R4: 29.67 | S4: 29.67 | T4: 29.37 | U4: 29.27 | V4: 28.62 | W4: 27.84 | X4: 29.98 | Y4: 30.67 | Z4: 27.59
A5: 3 | B5: 27.63 | C5: 26.59 | D5: 24.21 | E5: 25.99 | F5: 27 | G5: 25.45 | H5: 25.96 | I5: 25.84 | J5: 27.11 | K5: 28.72 | L5: 26.99 | M5: 27.04 | N5: 28.68 | O5: 30.68 | P5: 29.89 | Q5: 27.18 | R5: 28.61 | S5: 29.09 | T5: 29.11 | U5: 28.58 | V5: 29.35 | W5: 29.4 | X5: 29.54 | Y5: 29.32 | Z5: 29.93
A6: 4 | B6: 24.18 | C6: 23.47 | D6: 25.05 | E6: 21.68 | F6: 24.46 | G6: 22.28 | H6: 23.89 | I6: 22.12 | J6: 24.7 | K6: 24 | L6: 27.1 | M6: 25.84 | N6: 27.69 | O6: 24.91 | P6: 27.86 | Q6: 29.07 | R6: 25.96 | S6: 27.8 | T6: 25.63 | U6: 27.03 | V6: 25.45 | W6: 26.45 | X6: 25.72 | Y6: 26.66 | Z6: 24.88
A7: 5 | B7: 19.65 | C7: 20.52 | D7: 22.61 | E7: 20.7 | F7: 20.51 | G7: 17.33 | H7: 19.44 | I7: 18.6 | J7: 20.31 | K7: 18.89 | L7: 22.3 | M7: 21.71 | N7: 23.6 | O7: 23.45 | P7: 23.94 | Q7: 24.04 | R7: 24.4 | S7: 23.32 | T7: 23.85 | U7: 23.14 | V7: 23.86 | W7: 25.72 | X7: 24.91 | Y7: 22.22 | Z7: 23.86
A8: 6 | B8: 17.36 | C8: 17.58 | D8: 17.59 | E8: 15.39 | F8: 16.34 | G8: 18.13 | H8: 17.15 | I8: 19.37 | J8: 17.27 | K8: 17.79 | L8: 20.78 | M8: 19.65 | N8: 17.26 | O8: 19.64 | P8: 18.95 | Q8: 19.52 | R8: 22.28 | S8: 19.71 | T8: 18.3 | U8: 19.01 | V8: 17.41 | W8: 19.47 | X8: 20.6 | Y8: 19.36 | Z8: 19.33
A9: 7 | B9: 13.99 | C9: 13.58 | D9: 14.3 | E9: 13.89 | F9: 13.47 | G9: 14.91 | H9: 16.75 | I9: 14.55 | J9: 15.56 | K9: 16.35 | L9: 15.93 | M9: 14.61 | N9: 15.5 | O9: 16.74 | P9: 15.61 | Q9: 16.02 | R9: 17.32 | S9: 17.55 | T9: 18.15 | U9: 15.25 | V9: 17.18 | W9: 16.59 | X9: 18.36 | Y9: 17.04 | Z9: 18.8
A10: 8 | B10: 14.1 | C10: 15.71 | D10: 16.73 | E10: 17.1 | F10: 15.69 | G10: 14.91 | H10: 18.05 | I10: 19.3 | J10: 14.13 | K10: 14.95 | L10: 15.7 | M10: 15.24 | N10: 13.76 | O10: 13.91 | P10: 16.01 | Q10: 14.64 | R10: 12.69 | S10: 14.77 | T10: 16.18 | U10: 16.67 | V10: 14.74 | W10: 15.04 | X10: 14.48 | Y10: 16.08 | Z10: 13.53
A11: 9 | B11: 18.96 | C11: 16.48 | D11: 15.33 | E11: 17.79 | F11: 17.49 | G11: 17.55 | H11: 19.84 | I11: 19.13 | J11: 18.44 | K11: 19.96 | L11: 16.73 | M11: 16.32 | N11: 15.98 | O11: 17 | P11: 13.99 | Q11: 16.23 | R11: 16.13 | S11: 15.49 | T11: 18.2 | U11: 16.72 | V11: 15.21 | W11: 15.04 | X11: 13.84 | Y11: 14.17 | Z11: 14.51
A12: 10 | B12: 23.12 | C12: 19.83 | D12: 22.97 | E12: 21.76 | F12: 23.01 | G12: 20.15 | H12: 21.35 | I12: 23.75 | J12: 21.34 | K12: 22.57 | L12: 18.2 | M12: 15.93 | N12: 17.3 | O12: 18.98 | P12: 17.66 | Q12: 17.99 | R12: 17.32 | S12: 18.31 | T12: 17.42 | U12: 17.19 | V12: 18.79 | W12: 19.49 | X12: 16.15 | Y12: 16.91 | Z12: 17.97
A13: 11 | B13: 27.77 | C13: 26.94 | D13: 27.14 | E13: 26.5 | F13: 27.01 | G13: 25.56 | H13: 25.86 | I13: 26.36 | J13: 24.46 | K13: 26.99 | L13: 23.97 | M13: 21.93 | N13: 22.74 | O13: 21.81 | P13: 20.86 | Q13: 22.86 | R13: 21.2 | S13: 21.95 | T13: 22.05 | U13: 22.74 | V13: 22.55 | W13: 22.99 | X13: 23.62 | Y13: 22.51 | Z13: 22.87
A14: 12 | B14: 28.86 | C14: 29.23 | D14: 30.71 | E14: 29.62 | F14: 31.78 | G14: 31.24 | H14: 30.14 | I14: 30 | J14: 30.68 | K14: 28.72 | L14: 26.24 | M14: 25.82 | N14: 24.11 | O14: 26.48 | P14: 26.31 | Q14: 28.18 | R14: 27.73 | S14: 25.61 | T14: 25.35 | U14: 26.44 | V14: 26.59 | W14: 29.17 | X14: 26 | Y14: 25.75 | Z14: 26.21
... A38: 36 | B38: 34.33 | C38: 32.38 | D38: 34.06 | E38: 35.02 | F38: 34.28 | G38: 33.72 | H38: 34.33 | I38: 34.36 | J38: 35.47 | K38: 33.34 | L38: 30.09 | M38: 31.06 | N38: 30.99 | O38: 29.73 | P38: 28.3 | Q38: 30.64 | R38: 28.94 | S38: 28.89 | T38: 29.24 | U38: 29.57 | V38: 28.5 | W38: 29.6 | X38: 30.55 | Y38: 29.79 | Z38: 31.16
A44: Вариант | B44: 26 | C44: 27 | D44: 28 | E44: 29 | F44: 30 | G44: 31 | H44: 32 | I44: 33 | J44: 34 | K44: 35 | L44: 36 | M44: 37 | N44: 38 | O44: 39 | P44: 40 | Q44: 41 | R44: 42 | S44: 43 | T44: 44 | U44: 45 | V44: 46 | W44: 47 | X44: 48 | Y44: 49 | Z44: 50
A45: Месяц
A46: 1 | B46: 31.49 | C46: 32.49 | D46: 31.83 | E46: 32.62 | F46: 33.53 | G46: 31.55 | H46: 32.03 | I46: 31.22 | J46: 30.5 | K46: 33.33 | L46: 28.96 | M46: 28.15 | N46: 31.61 | O46: 30.21 | P46: 30.09 | Q46: 31.55 | R46: 32 | S46: 31.75 | T46: 30.21 | U46: 31.18 | V46: 31.37 | W46: 31.14 | X46: 30.33 | Y46: 30.54 | Z46: 29.92
A47: 2 | B47: 31.98 | C47: 31.55 | D47: 32.15 | E47: 29.79 | F47: 33.59 | G47: 32.6 | H47: 31.29 | I47: 30.28 | J47: 34.96 | K47: 32.18 | L47: 31.28 | M47: 33.89 | N47: 33.34 | O47: 32.99 | P47: 35.03 | Q47: 30.21 | R47: 33.54 | S47: 33.53 | T47: 33.12 | U47: 32.99 | V47: 32.08 | W47: 31.02 | X47: 33.95 | Y47: 34.91 | Z47: 30.67
A48: 3 | B48: 31.59 | C48: 30.15 | D48: 26.88 | E48: 29.33 | F48: 30.72 | G48: 28.58 | H48: 29.29 | I48: 29.12 | J48: 30.87 | K48: 33.08 | L48: 29.91 | M48: 29.99 | N48: 32.24 | O48: 34.98 | P48: 33.9 | Q48: 30.18 | R48: 32.14 | S48: 32.8 | T48: 32.83 | U48: 32.11 | V48: 33.17 | W48: 33.23 | X48: 33.43 | Y48: 33.12 | Z48: 33.97
A49: 4 | B49: 28.07 | C49: 27.09 | D49: 29.27 | E49: 24.64 | F49: 28.46 | G49: 25.47 | H49: 27.67 | I49: 25.24 | J49: 28.78 | K49: 27.83 | L49: 30.85 | M49: 29.13 | N49: 31.66 | O49: 27.85 | P49: 31.91 | Q49: 33.57 | R49: 29.29 | S49: 31.82 | T49: 28.84 | U49: 30.76 | V49: 28.59 | W49: 29.96 | X49: 28.96 | Y49: 30.25 | Z49: 27.8
A50: 5 | B50: 23.12 | C50: 24.31 | D50: 27.19 | E50: 24.56 | F50: 24.3 | G50: 19.93 | H50: 22.83 | I50: 21.67 | J50: 24.03 | K50: 22.07 | L50: 25.49 | M50: 24.68 | N50: 27.28 | O50: 27.07 | P50: 27.74 | Q50: 27.88 | R50: 28.38 | S50: 26.89 | T50: 27.62 | U50: 26.64 | V50: 27.63 | W50: 30.19 | X50: 29.07 | Y50: 25.38 | Z50: 27.63
A51: 6 | B51: 20.87 | C51: 21.17 | D51: 21.19 | E51: 18.16 | F51: 19.46 | G51: 21.93 | H51: 20.58 | I51: 23.63 | J51: 20.74 | K51: 21.46 | L51: 24.67 | M51: 23.11 | N51: 19.83 | O51: 23.11 | P51: 22.15 | Q51: 22.93 | R51: 26.73 | S51: 23.2 | T51: 21.26 | U51: 22.24 | V51: 20.04 | W51: 22.87 | X51: 24.42 | Y51: 22.72 | Z51: 22.67
A52: 7 | B52: 16.44 | C52: 15.88 | D52: 16.87 | E52: 16.31 | F52: 15.72 | G52: 17.71 | H52: 20.23 | I52: 17.22 | J52: 18.6 | K52: 19.69 | L52: 18.9 | M52: 17.09 | N52: 18.31 | O52: 20.01 | P52: 18.46 | Q52: 19.03 | R52: 20.82 | S52: 21.13 | T52: 21.95 | U52: 17.96 | V52: 20.61 | W52: 19.81 | X52: 22.25 | Y52: 20.42 | Z52: 22.84
A53: 8 | B53: 15.98 | C53: 18.19 | D53: 19.59 | E53: 20.11 | F53: 18.16 | G53: 17.09 | H53: 21.41 | I53: 23.13 | J53: 16.02 | K53: 17.15 | L53: 18.8 | M53: 18.16 | N53: 16.13 | O53: 16.33 | P53: 19.21 | Q53: 17.34 | R53: 14.66 | S53: 17.52 | T53: 19.46 | U53: 20.13 | V53: 17.47 | W53: 17.88 | X53: 17.12 | Y53: 19.32 | Z53: 15.81
A54: 9 | B54: 21.3 | C54: 17.9 | D54: 16.32 | E54: 19.7 | F54: 19.28 | G54: 19.36 | H54: 22.52 | I54: 21.54 | J54: 20.59 | K54: 22.68 | L54: 19.59 | M54: 19.03 | N54: 18.56 | O54: 19.97 | P54: 15.82 | Q54: 18.91 | R54: 18.77 | S54: 17.89 | T54: 21.61 | U54: 19.57 | V54: 17.5 | W54: 17.28 | X54: 15.63 | Y54: 16.08 | Z54: 16.55
A55: 10 | B55: 25.2 | C55: 20.69 | D55: 25.01 | E55: 23.34 | F55: 25.06 | G55: 21.13 | H55: 22.78 | I55: 26.08 | J55: 22.76 | K55: 24.46 | L55: 20.26 | M55: 17.14 | N55: 19.03 | O55: 21.34 | P55: 19.51 | Q55: 19.97 | R55: 19.05 | S55: 20.42 | T55: 19.19 | U55: 18.88 | V55: 21.07 | W55: 22.04 | X55: 17.44 | Y55: 18.48 | Z55: 19.95
A56: 11 | B56: 29.74 | C56: 28.6 | D56: 28.88 | E56: 28 | F56: 28.7 | G56: 26.71 | H56: 27.12 | I56: 27.81 | J56: 25.19 | K56: 28.67 | L56: 26.38 | M56: 23.58 | N56: 24.69 | O56: 23.41 | P56: 22.1 | Q56: 24.86 | R56: 22.58 | S56: 23.6 | T56: 23.74 | U56: 24.69 | V56: 24.43 | W56: 25.04 | X56: 25.9 | Y56: 24.38 | Z56: 24.87
A57: 12 | B57: 29.76 | C57: 30.27 | D57: 32.31 | E57: 30.8 | F57: 33.77 | G57: 33.03 | H57: 31.52 | I57: 31.32 | J57: 32.26 | K57: 29.56 | L57: 27.63 | M57: 27.07 | N57: 24.71 | O57: 27.97 | P57: 27.74 | Q57: 30.3 | R57: 29.69 | S57: 26.77 | T57: 26.42 | U57: 27.91 | V57: 28.12 | W57: 31.66 | X57: 27.31 | Y57: 26.97 | Z57: 27.6
... A81: 36 | B81: 30.31 | C81: 27.63 | D81: 29.94 | E81: 31.26 | F81: 30.24 | G81: 29.47 | H81: 30.31 | I81: 30.35 | J81: 31.87 | K81: 28.96 | L81: 26.68 | M81: 28.01 | N81: 27.91 | O81: 26.18 | P81: 24.21 | Q81: 27.43 | R81: 25.09 | S81: 25.02 | T81: 25.51 | U81: 25.96 | V81: 24.49 | W81: 26.01 | X81: 27.3 | Y81: 26.26 | Z81: 28.14

Sheet прочие
B1: 1 | C1: 2 | D1: 3 | E1: 4 | F1: 5 | G1: 6 | H1: 7 | I1: 8 | J1: 9 | K1: 10 | L1: 11 | M1: 12 | N1: 13 | O1: 14 | P1: 15 | Q1: 16 | R1: 17 | S1: 18 | T1: 19 | U1: 20 | V1: 21 | W1: 22 | X1: 23 | Y1: 24 | Z1: 25
A2: Месяц
A3: 1 | B3: 34.66 | C3: 49.08 | D3: 36.56 | E3: 38.79 | F3: 45.29 | G3: 40.15 | H3: 35.07 | I3: 33.52 | J3: 31.86 | K3: 35.82 | L3: 14.07 | M3: 15.89 | N3: 22.53 | O3: 30.36 | P3: 20.21 | Q3: 26.55 | R3: 29.55 | S3: 17.68 | T3: 21.94 | U3: 26.07 | V3: 19.93 | W3: 27 | X3: 36.52 | Y3: 24.68 | Z3: 27.27
A4: 2 | B4: 27.47 | C4: 46.23 | D4: 42.79 | E4: 33.12 | F4: 32.82 | G4: 23.72 | H4: 38.54 | I4: 45.79 | J4: 28.56 | K4: 29.91 | L4: 39.89 | M4: 43.78 | N4: 27.77 | O4: 41.58 | P4: 31.82 | Q4: 41.62 | R4: 53.33 | S4: 33.88 | T4: 45.6 | U4: 46.44 | V4: 33.94 | W4: 34.74 | X4: 36.37 | Y4: 30.95 | Z4: 34.92
A5: 3 | B5: 41.53 | C5: 28.68 | D5: 31.69 | E5: 26.65 | F5: 27.07 | G5: 29.42 | H5: 29.26 | I5: 33.6 | J5: 39.79 | K5: 32.39 | L5: 50.09 | M5: 38.86 | N5: 47.24 | O5: 36.42 | P5: 43.17 | Q5: 30.44 | R5: 41.67 | S5: 37.85 | T5: 38.46 | U5: 36.89 | V5: 45.5 | W5: 32.9 | X5: 31.37 | Y5: 34.2 | Z5: 36.61
A6: 4 | B6: 26.37 | C6: 28.5 | D6: 33.91 | E6: 33.48 | F6: 25.24 | G6: 37.64 | H6: 32.82 | I6: 25.47 | J6: 43.06 | K6: 32.07 | L6: 35.57 | M6: 32.76 | N6: 31.32 | O6: 37.69 | P6: 32.16 | Q6: 28.46 | R6: 29.56 | S6: 36.93 | T6: 36.04 | U6: 27.53 | V6: 35.84 | W6: 35.58 | X6: 39.81 | Y6: 34.3 | Z6: 36.58
A7: 5 | B7: 16.16 | C7: 21.99 | D7: 31.16 | E7: 20.29 | F7: 23.12 | G7: 26.45 | H7: 21.85 | I7: 29.02 | J7: 30.33 | K7: 23.26 | L7: 36.07 | M7: 27.7 | N7: 29.56 | O7: 26.73 | P7: 25.66 | Q7: 23.31 | R7: 31.76 | S7: 25.77 | T7: 25.73 | U7: 33.92 | V7: 26.52 | W7: 20.41 | X7: 37.28 | Y7: 28 | Z7: 27.32
A8: 6 | B8: 17.43 | C8: 16.38 | D8: 20.62 | E8: 14.1 | F8: 17.28 | G8: 12.29 | H8: 17.47 | I8: 9.73 | J8: 25.01 | K8: 16.44 | L8: 27.58 | M8: 29.32 | N8: 17.24 | O8: 35.57 | P8: 26.31 | Q8: 26.24 | R8: 17.39 | S8: 30.21 | T8: 21 | U8: 20.38 | V8: 30.78 | W8: 25.36 | X8: 16.03 | Y8: 27.06 | Z8: 16.89
A9: 7 | B9: 19.29 | C9: 15.77 | D9: 19.94 | E9: 14 | F9: 19.62 | G9: 26.46 | H9: 21 | I9: 14.75 | J9: 14.42 | K9: 22.74 | L9: 26.05 | M9: 20.03 | N9: 16.17 | O9: 22.93 | P9: 10.62 | Q9: 18.27 | R9: 25.45 | S9: 21.14 | T9: 21.67 | U9: 22.27 | V9: 12.56 | W9: 18.52 | X9: 22.49 | Y9: 26.58 | Z9: 20.22
A10: 8 | B10: 17.33 | C10: 2.96 | D10: 22.91 | E10: 15.72 | F10: 18.49 | G10: 3.65 | H10: 25.78 | I10: 11.58 | J10: 21.99 | K10: 12.88 | L10: 21.85 | M10: 15.38 | N10: 13.33 | O10: 19.32 | P10: 11.88 | Q10: 16.2 | R10: 14.47 | S10: 13.21 | T10: 7.67 | U10: 18.52 | V10: 9.42 | W10: 14.57 | X10: 13.57 | Y10: 19.89 | Z10: 16.73
A11: 9 | B11: 21.01 | C11: 12.71 | D11: 24.56 | E11: 14.91 | F11: 19.36 | G11: 21.86 | H11: 20.26 | I11: 15.16 | J11: 21.77 | K11: 22.04 | L11: 18.62 | M11: 23.77 | N11: 19.83 | O11: 28.76 | P11: 17.67 | Q11: 20.63 | R11: 15.8 | S11: 25.32 | T11: 19.56 | U11: 17.74 | V11: 23.83 | W11: 26.89 | X11: 14.58 | Y11: 7.03 | Z11: 10.1
A12: 10 | B12: 24.44 | C12: 29.26 | D12: 29.01 | E12: 32.89 | F12: 26.65 | G12: 19.72 | H12: 18.39 | I12: 18.51 | J12: 21.42 | K12: 26.24 | L12: 20.21 | M12: 23.33 | N12: 21.35 | O12: 19.58 | P12: 22.79 | Q12: 13.35 | R12: 25.87 | S12: 26.43 | T12: 17.16 | U12: 15.72 | V12: 20.07 | W12: 22.35 | X12: 19.48 | Y12: 18.43 | Z12: 28.7
A13: 11 | B13: 30.43 | C13: 27.21 | D13: 29.61 | E13: 30.79 | F13: 24.79 | G13: 29.38 | H13: 34.51 | I13: 22.41 | J13: 33.57 | K13: 31.62 | L13: 19.66 | M13: 24.75 | N13: 29.27 | O13: 24.25 | P13: 19.5 | Q13: 30.19 | R13: 26.66 | S13: 29.65 | T13: 21.77 | U13: 25.05 | V13: 23.22 | W13: 25.67 | X13: 15.88 | Y13: 19.14 | Z13: 30.57
A14: 12 | B14: 38.66 | C14: 38.04 | D14: 35.76 | E14: 28.39 | F14: 34.75 | G14: 39.96 | H14: 28.43 | I14: 30 | J14: 36.92 | K14: 35.48 | L14: 30.81 | M14: 33.56 | N14: 26.88 | O14: 32 | P14: 32.07 | Q14: 29.27 | R14: 34.36 | S14: 23.85 | T14: 31.37 | U14: 29.18 | V14: 35.56 | W14: 35.05 | X14: 29.72 | Y14: 23.45 | Z14: 27.06
... A38: 36 | B38: 20.75 | C38: 16.85 | D38: 16.32 | E38: 17.44 | F38: 23.05 | G38: 20.85 | H38: 29.97 | I38: 26.36 | J38: 26.05 | K38: 14.07 | L38: 13.56 | M38: 13.32 | N38: 10.63 | O38: 13.92 | P38: 23.34 | Q38: 24.54 | R38: 16.95 | S38: 19.5 | T38: 21.65 | U38: 11 | V38: 26.21 | W38: 8.65 | X38: 17.2 | Y38: 26.68 | Z38: 17.4
B42: 26 | C42: 27 | D42: 28 | E42: 29 | F42: 30 | G42: 31 | H42: 32 | I42: 33 | J42: 34 | K42: 35 | L42: 36 | M42: 37 | N42: 38 | O42: 39 | P42: 40 | Q42: 41 | R42: 42 | S42: 43 | T42: 44 | U42: 45 | V42: 46 | W42: 47 | X42: 48 | Y42: 49 | Z42: 50
A43: Месяц
A44: 1 | B44: 31.09 | C44: 40.7 | D44: 32.35 | E44: 33.84 | F44: 38.17 | G44: 34.75 | H44: 31.36 | I44: 30.33 | J44: 29.22 | K44: 31.86 | L44: 9.42 | M44: 10.63 | N44: 15.06 | O44: 20.28 | P44: 13.51 | Q44: 17.74 | R44: 19.74 | S44: 11.83 | T44: 14.66 | U44: 17.42 | V44: 13.32 | W44: 18.04 | X44: 24.39 | Y44: 16.49 | Z44: 18.22
A45: 2 | B45: 25.81 | C45: 38.32 | D45: 36.02 | E45: 29.58 | F45: 29.37 | G45: 23.31 | H45: 33.19 | I45: 38.03 | J45: 26.53 | K45: 27.43 | L45: 34.57 | M45: 37.17 | N45: 26.49 | O45: 35.7 | P45: 29.2 | Q45: 35.73 | R45: 43.54 | S45: 30.57 | T45: 38.38 | U45: 38.94 | V45: 30.61 | W45: 31.15 | X45: 32.23 | Y45: 28.62 | Z45: 31.26
A46: 3 | B46: 34.89 | C46: 26.32 | D46: 28.33 | E46: 24.97 | F46: 25.25 | G46: 26.81 | H46: 26.71 | I46: 29.61 | J46: 33.73 | K46: 28.79 | L46: 40.89 | M46: 33.4 | N46: 38.99 | O46: 31.78 | P46: 36.27 | Q46: 27.79 | R46: 35.27 | S46: 32.73 | T46: 33.13 | U46: 32.09 | V46: 37.83 | W46: 29.43 | X46: 28.41 | Y46: 30.29 | Z46: 31.9
A47: 4 | B47: 24.78 | C47: 26.2 | D47: 29.81 | E47: 29.52 | F47: 24.03 | G47: 32.29 | H47: 29.08 | I47: 24.18 | J47: 35.91 | K47: 28.58 | L47: 30.92 | M47: 29.04 | N47: 28.09 | O47: 32.33 | P47: 28.64 | Q47: 26.18 | R47: 26.91 | S47: 31.82 | T47: 31.23 | U47: 25.56 | V47: 31.1 | W47: 30.93 | X47: 33.74 | Y47: 30.07 | Z47: 31.59
A48: 5 | B48: 18.32 | C48: 22.2 | D48: 28.32 | E48: 21.07 | F48: 22.96 | G48: 25.18 | H48: 22.11 | I48: 26.89 | J48: 27.76 | K48: 23.05 | L48: 31.25 | M48: 25.67 | N48: 26.91 | O48: 25.02 | P48: 24.31 | Q48: 22.74 | R48: 28.37 | S48: 24.38 | T48: 24.35 | U48: 29.81 | V48: 24.88 | W48: 20.8 | X48: 32.05 | Y48: 25.87 | Z48: 25.41
A49: 6 | B49: 19.82 | C49: 19.13 | D49: 21.95 | E49: 17.61 | F49: 19.73 | G49: 16.4 | H49: 19.86 | I49: 14.7 | J49: 24.88 | K49: 19.17 | L49: 25.93 | M49: 27.09 | N49: 19.04 | O49: 31.26 | P49: 25.09 | Q49: 25.04 | R49: 19.14 | S49: 27.69 | T49: 21.55 | U49: 21.14 | V49: 28.07 | W49: 24.46 | X49: 18.23 | Y49: 25.59 | Z49: 18.8
A50: 7 | B50: 21.89 | C50: 19.54 | D50: 22.32 | E50: 18.36 | F50: 22.1 | G50: 26.67 | H50: 23.02 | I50: 18.86 | J50: 18.63 | K50: 24.18 | L50: 25.57 | M50: 21.56 | N50: 18.98 | O50: 23.49 | P50: 15.29 | Q50: 20.38 | R50: 25.17 | S50: 22.3 | T50: 22.65 | U50: 23.06 | V50: 16.58 | W50: 20.55 | X50: 23.2 | Y50: 25.93 | Z50: 21.69
A51: 8 | B51: 21.28 | C51: 11.7 | D51: 25 | E51: 20.21 | F51: 22.05 | G51: 12.16 | H51: 26.91 | I51: 17.44 | J51: 24.38 | K51: 18.31 | L51: 23.59 | M51: 19.28 | N51: 17.91 | O51: 21.9 | P51: 16.94 | Q51: 19.82 | R51: 18.67 | S51: 17.83 | T51: 14.14 | U51: 21.37 | V51: 15.3 | W51: 18.74 | X51: 18.07 | Y51: 22.28 | Z51: 20.17
A52: 9 | B52: 23.99 | C52: 18.46 | D52: 26.35 | E52: 19.92 | F52: 22.89 | G52: 24.55 | H52: 23.49 | I52: 20.09 | J52: 24.5 | K52: 24.67 | L52: 22.14 | M52: 25.57 | N52: 22.95 | O52: 28.9 | P52: 21.51 | Q52: 23.48 | R52: 20.26 | S52: 26.61 | T52: 22.77 | U52: 21.56 | V52: 25.61 | W52: 27.65 | X52: 19.45 | Y52: 14.41 | Z52: 16.46
A53: 10 | B53: 25.81 | C53: 29.02 | D53: 28.85 | E53: 31.44 | F53: 27.28 | G53: 22.66 | H53: 21.77 | I53: 21.85 | J53: 23.79 | K53: 27.01 | L53: 23.46 | M53: 25.53 | N53: 24.22 | O53: 23.04 | P53: 25.18 | Q53: 18.88 | R53: 27.23 | S53: 27.6 | T53: 21.43 | U53: 20.46 | V53: 23.36 | W53: 24.88 | X53: 22.97 | Y53: 22.27 | Z53: 29.12
A54: 11 | B54: 28.48 | C54: 26.34 | D54: 27.94 | E54: 28.72 | F54: 24.72 | G54: 27.78 | H54: 31.2 | I54: 23.14 | J54: 30.58 | K54: 29.27 | L54: 22.62 | M54: 26.01 | N54: 29.03 | O54: 25.68 | P54: 22.52 | Q54: 29.64 | R54: 27.29 | S54: 29.28 | T54: 24.02 | U54: 26.22 | V54: 24.99 | W54: 26.63 | X54: 20.1 | Y54: 22.28 | Z54: 29.9
A55: 12 | B55: 31.9 | C55: 31.48 | D55: 29.97 | E55: 25.05 | F55: 29.29 | G55: 32.77 | H55: 25.08 | I55: 26.12 | J55: 30.74 | K55: 29.78 | L55: 28.74 | M55: 30.57 | N55: 26.12 | O55: 29.53 | P55: 29.57 | Q55: 27.71 | R55: 31.1 | S55: 24.1 | T55: 29.11 | U55: 27.65 | V55: 31.9 | W55: 31.56 | X55: 28.01 | Y55: 23.83 | Z55: 26.23
... A79: 36 | B79: 13.87 | C79: 11.27 | D79: 10.92 | E79: 11.67 | F79: 15.4 | G79: 13.94 | H79: 20.02 | I79: 17.61 | J79: 17.4 | K79: 9.42 | L79: 13.49 | M79: 13.33 | N79: 11.54 | O79: 13.73 | P79: 20.01 | Q79: 20.81 | R79: 15.75 | S79: 17.45 | T79: 18.88 | U79: 11.78 | V79: 21.92 | W79: 10.22 | X79: 15.92 | Y79: 22.24 | Z79: 16.05

Sheet Вар1
B1: Потери энергии, МВт*ч
A2: Месяц | B2: 500 | C2: 220 | D2: 110 | E2: 35 | F2: 6--10 | G2: 0.4 | H2: проч | I2: Суммарные потери энергии
A3: 1 | B3: ='500 кВ'!B2 -> 64.78107 | C3: ='220кВ'!B2 -> 48.372601 | D3: ='110 кВ'!B2 -> 71.502816 | E3: ='35 кВ'!B2 -> 17 | F3: ='6-10 кВ'!B3 -> 27.96 | G3: ='0.4 кВ'!B3 -> 28.19 | H3: =прочие!B3 -> 34.66 | I3: =SUM(B3:H3) -> 292.46649
A4: 2 | B4: ='500 кВ'!B3 -> 55.05554 | C4: ='220кВ'!B3 -> 45.981315 | D4: ='110 кВ'!B3 -> 73.48107 | E4: ='35 кВ'!B3 -> 15.77 | F4: ='6-10 кВ'!B4 -> 28.74 | G4: ='0.4 кВ'!B4 -> 28.49 | H4: =прочие!B4 -> 27.47 | I4: =SUM(B4:H4) -> 274.98793
A5: 3 | B5: ='500 кВ'!B4 -> 67.21981 | C5: ='220кВ'!B4 -> 41.264035 | D5: ='110 кВ'!B4 -> 63.815606 | E5: ='35 кВ'!B4 -> 12.88 | F5: ='6-10 кВ'!B5 -> 27.74 | G5: ='0.4 кВ'!B5 -> 27.63 | H5: =прочие!B5 -> 41.53 | I5: =SUM(B5:H5) -> 282.07945
A6: 4 | B6: ='500 кВ'!B5 -> 38.64014 | C6: ='220кВ'!B5 -> 31.881842 | D6: ='110 кВ'!B5 -> 58.74571 | E6: ='35 кВ'!B5 -> 10.72 | F6: ='6-10 кВ'!B6 -> 25.59 | G6: ='0.4 кВ'!B6 -> 24.18 | H6: =прочие!B6 -> 26.37 | I6: =SUM(B6:H6) -> 216.12769
A7: 5 | B7: ='500 кВ'!B6 -> 39.34287 | C7: ='220кВ'!B6 -> 16.716245 | D7: ='110 кВ'!B6 -> 48.633292 | E7: ='35 кВ'!B6 -> 8.34 | F7: ='6-10 кВ'!B7 -> 19.34 | G7: ='0.4 кВ'!B7 -> 19.65 | H7: =прочие!B7 -> 16.16 | I7: =SUM(B7:H7) -> 168.18241
A8: 6 | B8: ='500 кВ'!B7 -> 44.29023 | C8: ='220кВ'!B7 -> 17.467445 | D8: ='110 кВ'!B7 -> 33.514983 | E8: ='35 кВ'!B7 -> 6.71 | F8: ='6-10 кВ'!B8 -> 19.5 | G8: ='0.4 кВ'!B8 -> 17.36 | H8: =прочие!B8 -> 17.43 | I8: =SUM(B8:H8) -> 156.27266
A9: 7 | B9: ='500 кВ'!B8 -> 36.70968 | C9: ='220кВ'!B8 -> 7.5510076 | D9: ='110 кВ'!B8 -> 36.38367 | E9: ='35 кВ'!B8 -> 6.53 | F9: ='6-10 кВ'!B9 -> 19.92 | G9: ='0.4 кВ'!B9 -> 13.99 | H9: =прочие!B9 -> 19.29 | I9: =SUM(B9:H9) -> 140.37436
A10: 8 | B10: ='500 кВ'!B9 -> 25.04076 | C10: ='220кВ'!B9 -> 17.89665 | D10: ='110 кВ'!B9 -> 32.256685 | E10: ='35 кВ'!B9 -> 9.9 | F10: ='6-10 кВ'!B10 -> 16.23 | G10: ='0.4 кВ'!B10 -> 14.1 | H10: =прочие!B10 -> 17.33 | I10: =SUM(B10:H10) -> 132.75409
A11: 9 | B11: ='500 кВ'!B10 -> 54.70554 | C11: ='220кВ'!B10 -> 23.858359 | D11: ='110 кВ'!B10 -> 38.024618 | E11: ='35 кВ'!B10 -> 12.22 | F11: ='6-10 кВ'!B11 -> 18.22 | G11: ='0.4 кВ'!B11 -> 18.96 | H11: =прочие!B11 -> 21.01 | I11: =SUM(B11:H11) -> 186.99852
A12: 10 | B12: ='500 кВ'!B11 -> 48.71057 | C12: ='220кВ'!B11 -> 36.668821 | D12: ='110 кВ'!B11 -> 54.076175 | E12: ='35 кВ'!B11 -> 14.52 | F12: ='6-10 кВ'!B12 -> 26.64 | G12: ='0.4 кВ'!B12 -> 23.12 | H12: =прочие!B12 -> 24.44 | I12: =SUM(B12:H12) -> 228.17557
A13: 11 | B13: ='500 кВ'!B12 -> 64.30621 | C13: ='220кВ'!B12 -> 48.492746 | D13: ='110 кВ'!B12 -> 65.859797 | E13: ='35 кВ'!B12 -> 15.42 | F13: ='6-10 кВ'!B13 -> 26.11 | G13: ='0.4 кВ'!B13 -> 27.77 | H13: =прочие!B13 -> 30.43 | I13: =SUM(B13:H13) -> 278.38875
A14: 12 | B14: ='500 кВ'!B13 -> 54.29508 | C14: ='220кВ'!B13 -> 53.228306 | D14: ='110 кВ'!B13 -> 77.218009 | E14: ='35 кВ'!B13 -> 18.31 | F14: ='6-10 кВ'!B14 -> 27.14 | G14: ='0.4 кВ'!B14 -> 28.86 | H14: =прочие!B14 -> 38.66 | I14: =SUM(B14:H14) -> 297.7114
... A38: 36 | B38: ='500 кВ'!B37 -> 62.52608 | C38: ='220кВ'!B37 -> 74.27405 | D38: ='110 кВ'!B37 -> 89.54001 | E38: ='35 кВ'!B37 -> 17.88 | F38: ='6-10 кВ'!B38 -> 27.28 | G38: ='0.4 кВ'!B38 -> 34.33 | H38: =прочие!B38 -> 20.75 | I38: =SUM(B38:H38) -> 326.58014
